BEGIN:VCALENDAR
VERSION:2.0
PRODID:-//ChamberMaster//Event Calendar 2.0//EN
METHOD:PUBLISH
X-PUBLISHED-TTL:P3D
REFRESH-INTERVAL:P3D
CALSCALE:GREGORIAN
BEGIN:VEVENT
DTSTART:20151204T193000Z
DTEND:20151204T220000Z
X-MICROSOFT-CDO-ALLDAYEVENT:FALSE
SUMMARY:Holiday Luncheon December 2015
DESCRIPTION:Join us on December 4th as we kick off the holidays with our annual Anaheim Chamber of Commerce Holiday Luncheon! Come see Santa\, have lunch\, and be merry! Be part of the giving season and bring an unwrapped gift or gift card to be donated to Anaheim Cops 4 Kids!\n\n\n\n**Table Sponsors receive one table of 10 seats\, 20 raffle tickets\, recognition on day of event signage\, recognition at podium\, recognition in This Week in Anaheim\, and recognition on AnaheimChamber.org
X-ALT-DESC;FMTTYPE=text/html:<span style="line-height: 20.8px\;">Join us on December 4th as we kick off the holidays with our annual Anaheim Chamber of Commerce Holiday Luncheon! Come see Santa\, have lunch\, and be merry! Be part of the giving season and bring an unwrapped gift or gift card to be donated to Anaheim Cops 4 Kids!</span><br style="line-height: 20.8px\;" />\n<br style="line-height: 20.8px\;" />\n<span style="line-height: 20.8px\;">**Table Sponsors receive one table of 10 seats\, 20 raffle tickets\, recognition on day of event signage\, recognition at podium\, recognition in This Week in Anaheim\, and recognition on AnaheimChamber.org</span>
LOCATION:Embassy Suites Anaheim South 11767 Harbor Blvd Garden Grove CA 92840
UID:e.2108.1699
SEQUENCE:3
DTSTAMP:20260420T213144Z
URL:https://business.anaheimchamber.org/events/details/holiday-luncheon-december-2015-12-04-2015-1699
END:VEVENT

END:VCALENDAR
