BEGIN:VCALENDAR
VERSION:2.0
PRODID:-//ChamberMaster//Event Calendar 2.0//EN
METHOD:PUBLISH
X-PUBLISHED-TTL:P3D
REFRESH-INTERVAL:P3D
CALSCALE:GREGORIAN
BEGIN:VEVENT
DTSTART:20161202T193000Z
DTEND:20161202T220000Z
X-MICROSOFT-CDO-ALLDAYEVENT:FALSE
SUMMARY:Holiday Luncheon December 2016
DESCRIPTION:Join us on December 2nd as we kick off the holidays with our annual Anaheim Chamber of Commerce Holiday Luncheon! Come see Santa\, have lunch\, and be merry! Be part of the giving season and bring an unwrapped gift or gift card to be donated to Anaheim Cops 4 Kids!
X-ALT-DESC;FMTTYPE=text/html:<span style="line-height: 20.8px\;">Join us on December 2nd as we kick off the holidays with our annual Anaheim Chamber of Commerce Holiday Luncheon! Come see Santa\, have lunch\, and be merry! Be part of the giving season and bring an unwrapped gift or gift card to be donated to Anaheim Cops 4 Kids!</span>
LOCATION:Majestic Garden Hotel 900 Disneyland Dr. Anaheim\, Ca 92802
UID:e.2108.2272
SEQUENCE:3
DTSTAMP:20260421T173947Z
URL:https://business.anaheimchamber.org/events/details/holiday-luncheon-december-2016-2272
END:VEVENT

END:VCALENDAR
