BEGIN:VCALENDAR
VERSION:2.0
PRODID:-//ChamberMaster//Event Calendar 2.0//EN
METHOD:PUBLISH
X-PUBLISHED-TTL:P3D
REFRESH-INTERVAL:P3D
CALSCALE:GREGORIAN
BEGIN:VEVENT
DTSTART:20200514T200000Z
DTEND:20200514T210000Z
X-MICROSOFT-CDO-ALLDAYEVENT:FALSE
SUMMARY:Hotel and Lodging Response & Recovery Zoom Call
DESCRIPTION:The coronavirus pandemic continues to affect the business community here in Anaheim. As the situation evolves\, we are here to bring you the latest updates and resources to help your business navigate through these challenging times. Please join us for the informative session.
X-ALT-DESC;FMTTYPE=text/html:The coronavirus pandemic continues to affect the business community here in Anaheim. As the situation evolves\, we are here to bring you the latest updates and resources to help your business navigate through these challenging times. Please join us for the informative session.
LOCATION:https://us02web.zoom.us/meeting/register/vJ0udeqqrTMqzGIDaBiShkZdaudYe3L8-w
UID:e.2108.3574
SEQUENCE:3
DTSTAMP:20260425T024739Z
URL:https://business.anaheimchamber.org/events/details/hotel-and-lodging-response-recovery-zoom-call-05-14-2020-3574
END:VEVENT

END:VCALENDAR
