BEGIN:VCALENDAR
VERSION:2.0
PRODID:-//ChamberMaster//Event Calendar 2.0//EN
METHOD:PUBLISH
X-PUBLISHED-TTL:P3D
REFRESH-INTERVAL:P3D
CALSCALE:GREGORIAN
BEGIN:VEVENT
DTSTART:20200225T020000Z
DTEND:20200225T043000Z
X-MICROSOFT-CDO-ALLDAYEVENT:FALSE
SUMMARY:How to Perfect the Elevator Pitch and Win More Business
DESCRIPTION:You have 15 seconds to get the listeners attention. This is true if you are selling to potential clients\, investors\, lenders or existing customers. Learn the tricks to creating your opening statements and creating excitement. This workshop will help you to create your exceptional and unique attention getting Elevator Pitch. Open new doors and grow your business.\n\n  How To Get Attention \n\n  Get Potential Clients Asking Questions\n\n  Variety Of Opening Statements\n\n  Learn How The Pros Do It\n\n  Help In Developing Your Pitch\n\n  Learn To Develop Confidence\n\n \n\n \n\nBarry Mc Kinley of SCORE has started\, owned & operated 10 different companies in 5 different industries. He sold each of the companies to investors\, employees and competitors including Fortune 1000 companies. With his vast experience he has been involved in all segments of business\, from hiring\, financing to sales and promotions\, and has counseled over 2\,100 SCORE clients.\n\n \n\n \n\n(Registration/Check-in 5:30 to 6:00 PM)
X-ALT-DESC;FMTTYPE=text/html:<p style="margin: 0px 0px 18px\; padding: 0px\; color: rgb(0\, 0\, 144)\; font-family: Arial\, Helvetica\, sans-serif\; font-size: 12px\; background-color: rgb(255\, 255\, 255)\;"><span style="color: rgb(0\, 0\, 128)\; font-size: 10pt\;" title="">You have 15 seconds to get the listeners attention. This is true if you are selling to potential clients\, investors\, lenders or existing customers. Learn the tricks to creating your opening statements and creating excitement. This workshop will help you to create your exceptional and unique attention getting Elevator Pitch. Open new doors and grow your business.</span></p>\n\n<div style="margin: 0px\; padding: 0px\; color: rgb(0\, 0\, 144)\; font-family: Arial\, Helvetica\, sans-serif\; font-size: 12px\; background-color: rgb(255\, 255\, 255)\;"><span style="color: rgb(0\, 0\, 128)\; font-size: 10pt\;" title="">&bull\; How To Get Attention&nbsp\;</span></div>\n\n<div style="margin: 0px\; padding: 0px\; color: rgb(0\, 0\, 144)\; font-family: Arial\, Helvetica\, sans-serif\; font-size: 12px\; background-color: rgb(255\, 255\, 255)\;"><span style="font-size: 10pt\; color: rgb(0\, 0\, 128)\;" title="">&bull\; Get Potential Clients Asking Questions</span></div>\n\n<div style="margin: 0px\; padding: 0px\; color: rgb(0\, 0\, 144)\; font-family: Arial\, Helvetica\, sans-serif\; font-size: 12px\; background-color: rgb(255\, 255\, 255)\;"><span style="font-size: 10pt\; color: rgb(0\, 0\, 128)\;" title="">&bull\; Variety Of Opening Statements</span></div>\n\n<div style="margin: 0px\; padding: 0px\; color: rgb(0\, 0\, 144)\; font-family: Arial\, Helvetica\, sans-serif\; font-size: 12px\; background-color: rgb(255\, 255\, 255)\;"><span style="font-size: 10pt\; color: rgb(0\, 0\, 128)\;" title="">&bull\; Learn How The Pros Do It</span></div>\n\n<div style="margin: 0px\; padding: 0px\; color: rgb(0\, 0\, 144)\; font-family: Arial\, Helvetica\, sans-serif\; font-size: 12px\; background-color: rgb(255\, 255\, 255)\;"><span style="font-size: 10pt\; color: rgb(0\, 0\, 128)\;" title="">&bull\; Help In Developing Your Pitch</span></div>\n\n<div style="margin: 0px\; padding: 0px\; color: rgb(0\, 0\, 144)\; font-family: Arial\, Helvetica\, sans-serif\; font-size: 12px\; background-color: rgb(255\, 255\, 255)\;"><span style="font-size: 10pt\; color: rgb(0\, 0\, 128)\;" title="">&bull\; Learn To Develop Confidence</span></div>\n\n<div style="margin: 0px\; padding: 0px\; color: rgb(0\, 0\, 144)\; font-family: Arial\, Helvetica\, sans-serif\; font-size: 12px\; background-color: rgb(255\, 255\, 255)\;">&nbsp\;</div>\n\n<div style="margin: 0px\; padding: 0px\; color: rgb(0\, 0\, 144)\; font-family: Arial\, Helvetica\, sans-serif\; font-size: 12px\; background-color: rgb(255\, 255\, 255)\;">&nbsp\;</div>\n\n<div style="margin: 0px\; padding: 0px\; color: rgb(0\, 0\, 144)\; font-family: Arial\, Helvetica\, sans-serif\; font-size: 12px\; background-color: rgb(255\, 255\, 255)\;"><span style="font-size: 10pt\; color: rgb(0\, 0\, 128)\;" title=""><strong>Barry Mc Kinley of SCORE</strong>&nbsp\;has started\, owned &amp\; operated 10 different companies in 5 different industries. He sold each of the companies to investors\, employees and competitors including Fortune 1000 companies. With his vast experience he has been involved in all segments of business\, from hiring\, financing to sales and promotions\, and has counseled over 2\,100 SCORE clients.</span></div>\n\n<div style="margin: 0px\; padding: 0px\; color: rgb(0\, 0\, 144)\; font-family: Arial\, Helvetica\, sans-serif\; font-size: 12px\; background-color: rgb(255\, 255\, 255)\;">&nbsp\;</div>\n\n<div style="margin: 0px\; padding: 0px\; color: rgb(0\, 0\, 144)\; font-family: Arial\, Helvetica\, sans-serif\; font-size: 12px\; background-color: rgb(255\, 255\, 255)\;">&nbsp\;</div>\n\n<div style="margin: 0px\; padding: 0px\; color: rgb(0\, 0\, 144)\; font-family: Arial\, Helvetica\, sans-serif\; font-size: 12px\; background-color: rgb(255\, 255\, 255)\;"><span style="font-size: 10pt\; color: rgb(0\, 0\, 128)\;" title="">(Registration/Check-in 5:30 to 6:00 PM)</span></div>\n\n<p style="margin: 0px 0px 18px\; padding: 0px\; color: rgb(0\, 0\, 144)\; font-family: Arial\, Helvetica\, sans-serif\; font-size: 12px\; background-color: rgb(255\, 255\, 255)\;">&nbsp\;</p>\n
LOCATION:Orange Public Library (Greenfield) 407 E Chapman Ave Orange\, CA 92866
UID:e.2108.2890
SEQUENCE:3
DTSTAMP:20260421T235816Z
URL:https://business.anaheimchamber.org/events/details/how-to-perfect-the-elevator-pitch-and-win-more-business-2890
END:VEVENT

END:VCALENDAR
