BEGIN:VCALENDAR
VERSION:2.0
PRODID:-//ChamberMaster//Event Calendar 2.0//EN
METHOD:PUBLISH
X-PUBLISHED-TTL:P3D
REFRESH-INTERVAL:P3D
CALSCALE:GREGORIAN
BEGIN:VEVENT
DTSTART:20210204T020000Z
DTEND:20210204T030000Z
X-MICROSOFT-CDO-ALLDAYEVENT:FALSE
SUMMARY:How to Start a Small Business
DESCRIPTION:
X-ALT-DESC;FMTTYPE=text/html:
LOCATION:Webinar
UID:e.2108.3861
SEQUENCE:3
DTSTAMP:20260423T072651Z
URL:https://business.anaheimchamber.org/events/details/how-to-start-a-small-business-3861
END:VEVENT

END:VCALENDAR
