BEGIN:VCALENDAR
VERSION:2.0
PRODID:-//ChamberMaster//Event Calendar 2.0//EN
METHOD:PUBLISH
X-PUBLISHED-TTL:P3D
REFRESH-INTERVAL:P3D
CALSCALE:GREGORIAN
BEGIN:VEVENT
DTSTART:20210223T180000Z
DTEND:20210223T190000Z
X-MICROSOFT-CDO-ALLDAYEVENT:FALSE
SUMMARY:HOW TO USE BLOGGING TO GROW YOUR BUSINESS
DESCRIPTION:Adding a blog to your website is a great way to educate current and prospective customers\, improve SEO\, and provide relevant content through social media channels. Learn how to start a blog\, how to use keywords in each post\, and how to choose topics.
X-ALT-DESC;FMTTYPE=text/html:<span style="color: rgb(101\, 101\, 101)\; font-family: &quot\;open sans&quot\;\, &quot\;arial narrow&quot\;\; font-size: 11px\; background-color: rgb(244\, 244\, 244)\;">Adding a blog to your website is a great way to educate current and prospective customers\, improve SEO\, and provide relevant content through social media channels. Learn how to start a blog\, how to use keywords in each post\, and how to choose topics.</span>
LOCATION:Webinar
UID:e.2108.3849
SEQUENCE:3
DTSTAMP:20260423T054819Z
URL:https://business.anaheimchamber.org/events/details/how-to-use-blogging-to-grow-your-business-3849
END:VEVENT

END:VCALENDAR
