BEGIN:VCALENDAR
VERSION:2.0
PRODID:-//ChamberMaster//Event Calendar 2.0//EN
METHOD:PUBLISH
X-PUBLISHED-TTL:P3D
REFRESH-INTERVAL:P3D
CALSCALE:GREGORIAN
BEGIN:VEVENT
DTSTART:20210217T200000Z
DTEND:20210217T210000Z
X-MICROSOFT-CDO-ALLDAYEVENT:FALSE
SUMMARY:How to Write Product Descriptions for Your Ecommerce Site that Wins Your Customers
DESCRIPTION:One of the most challenging things for business owners is writing clear and effective product descriptions for their e-commerce website.\n\nCome to this webinar and walk away with actionable and useful tools to help you write e-commerce product descriptions that win you customers.\n\nWe will show examples of product descriptions that need improvement\, and how to re-write them to showcase the best product benefits that convert traffic to sales\, the e-commerce way.
X-ALT-DESC;FMTTYPE=text/html:<p style="margin-top: 0px\; margin-bottom: 10px\; line-height: 23.2px\; font-family: Lato\, Arial\, Helvetica\, sans-serif\; font-size: 16px\;">One of the most challenging things for business owners is writing clear and effective product descriptions for their e-commerce website.<br />\nCome to this webinar and walk away with actionable and useful tools to help you write e-commerce product descriptions that win you customers.</p>\n\n<p style="margin-top: 0px\; margin-bottom: 10px\; line-height: 23.2px\; font-family: Lato\, Arial\, Helvetica\, sans-serif\; font-size: 16px\;">We will show examples of product descriptions that need improvement\, and how to re-write them to showcase the best product benefits that convert traffic to sales\, the e-commerce way.</p>\n
LOCATION:Webinar
UID:e.2108.3884
SEQUENCE:3
DTSTAMP:20260423T054621Z
URL:https://business.anaheimchamber.org/events/details/how-to-write-product-descriptions-for-your-ecommerce-site-that-wins-your-customers-3884
END:VEVENT

END:VCALENDAR
