BEGIN:VCALENDAR
VERSION:2.0
PRODID:-//ChamberMaster//Event Calendar 2.0//EN
METHOD:PUBLISH
X-PUBLISHED-TTL:P3D
REFRESH-INTERVAL:P3D
CALSCALE:GREGORIAN
BEGIN:VEVENT
DTSTART:20210217T183000Z
DTEND:20210217T183000Z
X-MICROSOFT-CDO-ALLDAYEVENT:FALSE
SUMMARY:HUBZone\, and WOSB Application Workshop
DESCRIPTION:HUBZone Program - The SBA's HUBZone program helps small businesses in urban and rural communities gain preferential access to federal procurement opportunities.\n\nWOSB Program - The SBA's WOSB program is designed to help more women owned small businesses win federal contracts by providing a level playing field for WOSBs to compete.
X-ALT-DESC;FMTTYPE=text/html:HUBZone Program - The SBA&rsquo\;s HUBZone program helps small businesses in urban and rural communities gain preferential access to federal procurement opportunities.<br />\nWOSB Program - The SBA&rsquo\;s WOSB program is designed to help more women owned small businesses win federal contracts by providing a level playing field for WOSBs to compete.
LOCATION:Webinar
UID:e.2108.3908
SEQUENCE:3
DTSTAMP:20260423T054316Z
URL:https://business.anaheimchamber.org/events/details/hubzone-and-wosb-application-workshop-3908
END:VEVENT

END:VCALENDAR
