BEGIN:VCALENDAR
VERSION:2.0
PRODID:-//ChamberMaster//Event Calendar 2.0//EN
METHOD:PUBLISH
X-PUBLISHED-TTL:P3D
REFRESH-INTERVAL:P3D
CALSCALE:GREGORIAN
BEGIN:VEVENT
DTSTART:20210218T220000Z
DTEND:20210218T230000Z
X-MICROSOFT-CDO-ALLDAYEVENT:FALSE
SUMMARY:IMPORTANCE OF GOOGLE ANALYTICS
DESCRIPTION:Do you know why Google Analytics is important to the performance of your website? A well-performing website can be critical during a global pandemic. Join us for this FREE session to learn the Basics of Google Analytics and Search Engine Optimization (SEO).
X-ALT-DESC;FMTTYPE=text/html:<span style="color: rgb(101\, 101\, 101)\; font-family: &quot\;open sans&quot\;\, &quot\;arial narrow&quot\;\; font-size: 11px\; background-color: rgb(244\, 244\, 244)\;">Do you know why Google Analytics is important to the performance of your website? A well-performing website can be critical during a global pandemic. Join us for this FREE session to learn the Basics of Google Analytics and Search Engine Optimization (SEO).</span>
LOCATION:Webinar
UID:e.2108.3848
SEQUENCE:3
DTSTAMP:20260423T072350Z
URL:https://business.anaheimchamber.org/events/details/importance-of-google-analytics-3848
END:VEVENT

END:VCALENDAR
