BEGIN:VCALENDAR
VERSION:2.0
PRODID:-//ChamberMaster//Event Calendar 2.0//EN
METHOD:PUBLISH
X-PUBLISHED-TTL:P3D
REFRESH-INTERVAL:P3D
CALSCALE:GREGORIAN
BEGIN:VEVENT
DTSTART:20180810T003000Z
DTEND:20180810T023000Z
X-MICROSOFT-CDO-ALLDAYEVENT:FALSE
SUMMARY:Innovation High School: Back-to-School Night!
DESCRIPTION:Come join us for food\, activites and more information about the different programs we have here at Innovation High School!
X-ALT-DESC;FMTTYPE=text/html:Come join us for food\, activites and more information about the different programs we have here at Innovation High School!&nbsp\;
LOCATION:505 N. Euclid St. #100 Anaheim\, CA 92801
UID:e.2108.2498
SEQUENCE:3
DTSTAMP:20260423T012832Z
URL:https://business.anaheimchamber.org/events/details/innovation-high-school-back-to-school-night-2498
END:VEVENT

END:VCALENDAR
