BEGIN:VCALENDAR
VERSION:2.0
PRODID:-//ChamberMaster//Event Calendar 2.0//EN
METHOD:PUBLISH
X-PUBLISHED-TTL:P3D
REFRESH-INTERVAL:P3D
CALSCALE:GREGORIAN
BEGIN:VEVENT
DTSTART:20210204T190000Z
DTEND:20210204T200000Z
X-MICROSOFT-CDO-ALLDAYEVENT:FALSE
SUMMARY:Integrated Marketing Communication Plan
DESCRIPTION:
X-ALT-DESC;FMTTYPE=text/html:
LOCATION:Webinar
UID:e.2108.3862
SEQUENCE:3
DTSTAMP:20260423T054406Z
URL:https://business.anaheimchamber.org/events/details/integrated-marketing-communication-plan-3862
END:VEVENT

END:VCALENDAR
