BEGIN:VCALENDAR
VERSION:2.0
PRODID:-//ChamberMaster//Event Calendar 2.0//EN
METHOD:PUBLISH
X-PUBLISHED-TTL:P3D
REFRESH-INTERVAL:P3D
CALSCALE:GREGORIAN
BEGIN:VEVENT
DTSTART:20210204T220000Z
DTEND:20210204T230000Z
X-MICROSOFT-CDO-ALLDAYEVENT:FALSE
SUMMARY:Interview with the U.S. Chamber of Commerce Executive Director Jennings Imel
DESCRIPTION:
X-ALT-DESC;FMTTYPE=text/html:
LOCATION:Webinar
UID:e.2108.3873
SEQUENCE:3
DTSTAMP:20260423T054749Z
URL:https://business.anaheimchamber.org/events/details/interview-with-the-u-s-chamber-of-commerce-executive-director-jennings-imel-3873
END:VEVENT

END:VCALENDAR
