BEGIN:VCALENDAR
VERSION:2.0
PRODID:-//ChamberMaster//Event Calendar 2.0//EN
METHOD:PUBLISH
X-PUBLISHED-TTL:P3D
REFRESH-INTERVAL:P3D
CALSCALE:GREGORIAN
BEGIN:VEVENT
DTSTART:20211115T220000Z
DTEND:20211115T230000Z
X-MICROSOFT-CDO-ALLDAYEVENT:FALSE
SUMMARY:Introduction to QuickBooks Online Webinar Series
DESCRIPTION:This webinar is the first and part of a three part webinar series and is designed for new or prospective QuickBooks Online (QBO) users who have questions about key processes and software functions. Join us for an in-depth introduction to QuickBooks that will cover the key features of the accounting software and how to implement them into your overall accounting system.\n\nMonday\, November 8 at 2 PM | Class 1 will cover: \n\n\n	Benefits of QBO\n	Conversion of Desktop to QBO (Use a Proadvisor)\n	Subscription levels\, how to chose the right level for your business.\n	Navigating QBO\n	\n		Demo company\n		Sign in\n		Set up wizard\n		Layout\n	\n	\n	Setting up you books (The Gear Wheel)\n	\n		Company\n		Lists\n		Tools\n	\n	\n	Quick Create (the plus button)\n	Navigation Panel\n	\n		Sales Center\n		Expenses Center\n	\n	\n\n\nMonday\, November 15 at 2 PM | Class 2 will cover: \n\n\n	Customize the Chart of Accounts\n	Use Products and Services\n	Use Vendor\, Expenses and Purchase\n	Use Customer and Sales Transactions\n\n\nMonday\, November 22 at 2 PM | Class 3 will cover: \n\n\n	QBO Payroll\n	Bank Fees and Reconciling\n	Sales Tax\n	Extra Information on Transactions\n	Reporting\n	Expanded Functionality\n	Getting Help\n\n\nYou will recieve a link to join this webinar the day before the first session.
X-ALT-DESC;FMTTYPE=text/html:<p style="margin-top: 0px\; margin-bottom: 10px\; line-height: 23.2px\; font-family: Lato\, Arial\, Helvetica\, sans-serif\; font-size: 16px\;">This webinar is the first and part of a&nbsp\;three part webinar series and is designed for new or prospective QuickBooks Online (QBO) users who have questions about key processes and software functions. Join us for an in-depth introduction to QuickBooks that will cover the key features of the accounting software and how to implement them into your overall accounting system.</p>\n\n<p style="margin-top: 0px\; margin-bottom: 10px\; line-height: 23.2px\; font-family: Lato\, Arial\, Helvetica\, sans-serif\; font-size: 16px\;">Monday\, November 8 at 2 PM | Class 1 will cover:&nbsp\;</p>\n\n<ol style="font-family: Lato\, Arial\, Helvetica\, sans-serif\; font-size: 16px\;">\n	<li style="margin-top: 0px\; margin-left: 0px\; line-height: 25.6px\;">Benefits of QBO</li>\n	<li style="margin-top: 0px\; margin-left: 0px\; line-height: 25.6px\;">Conversion of Desktop to QBO (Use a Proadvisor)</li>\n	<li style="margin-top: 0px\; margin-left: 0px\; line-height: 25.6px\;">Subscription levels\, how to chose the right level for your business.</li>\n	<li style="margin-top: 0px\; margin-left: 0px\; line-height: 25.6px\;">Navigating QBO\n	<ol>\n		<li style="margin-top: 0px\; margin-left: 0px\; line-height: 25.6px\;">Demo company</li>\n		<li style="margin-top: 0px\; margin-left: 0px\; line-height: 25.6px\;">Sign in</li>\n		<li style="margin-top: 0px\; margin-left: 0px\; line-height: 25.6px\;">Set up wizard</li>\n		<li style="margin-top: 0px\; margin-left: 0px\; line-height: 25.6px\;">Layout</li>\n	</ol>\n	</li>\n	<li style="margin-top: 0px\; margin-left: 0px\; line-height: 25.6px\;">Setting up you books (The Gear Wheel)\n	<ol>\n		<li style="margin-top: 0px\; margin-left: 0px\; line-height: 25.6px\;">Company</li>\n		<li style="margin-top: 0px\; margin-left: 0px\; line-height: 25.6px\;">Lists</li>\n		<li style="margin-top: 0px\; margin-left: 0px\; line-height: 25.6px\;">Tools</li>\n	</ol>\n	</li>\n	<li style="margin-top: 0px\; margin-left: 0px\; line-height: 25.6px\;">Quick Create (the plus button)</li>\n	<li style="margin-top: 0px\; margin-left: 0px\; line-height: 25.6px\;">Navigation Panel\n	<ol>\n		<li style="margin-top: 0px\; margin-left: 0px\; line-height: 25.6px\;">Sales Center</li>\n		<li style="margin-top: 0px\; margin-left: 0px\; line-height: 25.6px\;">Expenses Center</li>\n	</ol>\n	</li>\n</ol>\n\n<p style="margin-top: 0px\; margin-bottom: 10px\; line-height: 23.2px\; font-family: Lato\, Arial\, Helvetica\, sans-serif\; font-size: 16px\;">Monday\, November 15 at 2 PM | Class 2 will cover:&nbsp\;</p>\n\n<ul style="margin-top: 3px\; font-family: Lato\, Arial\, Helvetica\, sans-serif\; font-size: 16px\;">\n	<li style="margin-top: 0px\; margin-left: 0px\; line-height: 25.6px\;">Customize the Chart of Accounts</li>\n	<li style="margin-top: 0px\; margin-left: 0px\; line-height: 25.6px\;">Use Products and Services</li>\n	<li style="margin-top: 0px\; margin-left: 0px\; line-height: 25.6px\;">Use Vendor\, Expenses and Purchase</li>\n	<li style="margin-top: 0px\; margin-left: 0px\; line-height: 25.6px\;">Use Customer and Sales Transactions</li>\n</ul>\n\n<p style="margin-top: 0px\; margin-bottom: 10px\; line-height: 23.2px\; font-family: Lato\, Arial\, Helvetica\, sans-serif\; font-size: 16px\;">Monday\, November 22 at 2 PM | Class 3 will cover:&nbsp\;</p>\n\n<ul style="margin-top: 3px\; font-family: Lato\, Arial\, Helvetica\, sans-serif\; font-size: 16px\;">\n	<li style="margin-top: 0px\; margin-left: 0px\; line-height: 25.6px\;">QBO Payroll</li>\n	<li style="margin-top: 0px\; margin-left: 0px\; line-height: 25.6px\;">Bank Fees and Reconciling</li>\n	<li style="margin-top: 0px\; margin-left: 0px\; line-height: 25.6px\;">Sales Tax</li>\n	<li style="margin-top: 0px\; margin-left: 0px\; line-height: 25.6px\;">Extra Information on Transactions</li>\n	<li style="margin-top: 0px\; margin-left: 0px\; line-height: 25.6px\;">Reporting</li>\n	<li style="margin-top: 0px\; margin-left: 0px\; line-height: 25.6px\;">Expanded Functionality</li>\n	<li style="margin-top: 0px\; margin-left: 0px\; line-height: 25.6px\;">Getting Help</li>\n</ul>\n\n<p style="margin-top: 0px\; margin-bottom: 10px\; line-height: 23.2px\; font-family: Lato\, Arial\, Helvetica\, sans-serif\; font-size: 16px\;">You will recieve a link to join this webinar the day before the first session.&nbsp\;</p>\n
LOCATION:Online Meeting
UID:e.2108.4489
SEQUENCE:3
DTSTAMP:20260420T195630Z
URL:https://business.anaheimchamber.org/events/details/introduction-to-quickbooks-online-webinar-series-4489
END:VEVENT

END:VCALENDAR
