BEGIN:VCALENDAR
VERSION:2.0
PRODID:-//ChamberMaster//Event Calendar 2.0//EN
METHOD:PUBLISH
X-PUBLISHED-TTL:P3D
REFRESH-INTERVAL:P3D
CALSCALE:GREGORIAN
BEGIN:VEVENT
DTSTART:20190729T230000Z
DTEND:20190730T010000Z
X-MICROSOFT-CDO-ALLDAYEVENT:FALSE
SUMMARY:Jersey Mike's Ribbon Cutting
DESCRIPTION:Ribbon Cutting to welcome Jersey Mike's to the Anaheim Gateway.\n\nRibbon Cutting at 4:30pm
X-ALT-DESC;FMTTYPE=text/html:Ribbon Cutting to welcome Jersey Mike&#39\;s to the Anaheim Gateway.<br />\nRibbon Cutting at 4:30pm
LOCATION:111 E Katella Ave\, Suite 30 Anaheim\, CA 92802
UID:e.2108.2778
SEQUENCE:3
DTSTAMP:20260424T070527Z
URL:https://business.anaheimchamber.org/events/details/jersey-mike-s-ribbon-cutting-2778
END:VEVENT

END:VCALENDAR
