BEGIN:VCALENDAR
VERSION:2.0
PRODID:-//ChamberMaster//Event Calendar 2.0//EN
METHOD:PUBLISH
X-PUBLISHED-TTL:P3D
REFRESH-INTERVAL:P3D
CALSCALE:GREGORIAN
BEGIN:VEVENT
DTSTART:20210203T210000Z
DTEND:20210203T220000Z
X-MICROSOFT-CDO-ALLDAYEVENT:FALSE
SUMMARY:Jumpstart Your 2021 Marketing Plan - Plus Bonus: 2021 Marketing Checklist
DESCRIPTION:What You'll Learn: \n\nWhat will you do different to market your business more effectively in 2021? This workshop will help you plan your 2021 marketing goals and how to reach them using my checklist to target your market with the right digital marketing tools to get more action. We'll brainstorm using my checklist to jumpstart your marketing to grow your business or organization faster in 2021!   \n\nAttendees of This Presentation Will Learn: \n\n  What's working & what's not in marketing today. \n\n  Great strategies to develop your next offer\, promotion\, event\, or webinar.\n\n  How to identify and set marketing goals & develop a successful strategy. \n\n  How to set up calls-to-action & measure if they are working.\n\n  Tips to find your best audience\, choose the right media & campaign types for you\, when to promote it & what tools to use (including social\, PPC & others). \n\n  How to design high-impact marketing and reach beyond your lists.\n\n  How to measure your results\, your website performance & plan for 2021.\n\nPlus Bonus: Get a FREE Marketing Checklist to help you plan a more successful marketing strategy in 2021!  \n\nLiz Harsch of Tailor-Made Advertising has been helping small businesses make more of their marketing budget since  1988. She has been awarded by Constant Contact as an All Star Email Marketer and is Master Certified and an Authorized Local Expert to present Marketing\, Email Marketing and Social Media Workshops & offers other Small Business Workshops.
X-ALT-DESC;FMTTYPE=text/html:<p style="margin: 0px 0px 18px\; padding: 0px\; font-family: Arial\, Helvetica\, sans-serif\; font-size: 12px\;"><span style="font-size: 12pt\;" title=""><b><i>What You&#39\;ll Learn:&nbsp\;</i></b></span></p>\n\n<p style="margin: 0px 0px 18px\; padding: 0px\; font-family: Arial\, Helvetica\, sans-serif\; font-size: 12px\;"><span style="font-size: 12pt\;" title="">What will you do different to market your business more effectively in 2021? This workshop will help you plan your 2021 marketing goals and how to reach them using my checklist to target your market with the right digital marketing tools to get more action. We&#39\;ll brainstorm using my checklist to jumpstart your marketing to grow your business or organization faster in 2021!&nbsp\; &nbsp\;</span></p>\n\n<p style="margin: 0px 0px 18px\; padding: 0px\; font-family: Arial\, Helvetica\, sans-serif\; font-size: 12px\;"><span style="font-size: 12pt\;" title=""><b><i>Attendees of This Presentation Will Learn:&nbsp\;</i></b></span></p>\n\n<p style="margin: 0px 0px 18px\; padding: 0px\; font-family: Arial\, Helvetica\, sans-serif\; font-size: 12px\;"><span style="font-size: 12pt\;" title="">&bull\;&nbsp\;What&#39\;s working &amp\; what&#39\;s not in marketing today.&nbsp\;</span><br />\n<span style="font-size: 12pt\;" title="">&bull\;&nbsp\;Great strategies to develop your next offer\, promotion\, event\, or webinar.</span><br />\n<span style="font-size: 12pt\;" title="">&bull\;&nbsp\;How to identify and set marketing goals &amp\; develop a successful strategy.&nbsp\;</span><br />\n<span style="font-size: 12pt\;" title="">&bull\;&nbsp\;How to set up calls-to-action &amp\; measure if they are working.</span></p>\n\n<p style="margin: 0px 0px 18px\; padding: 0px\; font-family: Arial\, Helvetica\, sans-serif\; font-size: 12px\;"><span style="font-size: 12pt\;" title="">&bull\;&nbsp\;Tips to find your best audience\, choose the right media &amp\; campaign types for you\, when to promote it &amp\; what tools to use (including social\, PPC &amp\; others).&nbsp\;</span><br />\n<span style="font-size: 12pt\;" title="">&bull\;&nbsp\;How to design high-impact marketing and reach beyond your lists.</span><br />\n<span style="font-size: 12pt\;" title="">&bull\;&nbsp\;How to measure your results\, your website performance &amp\; plan for 2021.</span></p>\n\n<p style="margin: 0px 0px 18px\; padding: 0px\; font-family: Arial\, Helvetica\, sans-serif\; font-size: 12px\;"><span style="font-size: 12pt\;" title="">Plus Bonus:&nbsp\;Get a FREE Marketing Checklist to help you plan a more successful marketing strategy in 2021!&nbsp\;</span>&nbsp\;</p>\n\n<p style="margin: 0px 0px 18px\; padding: 0px\; font-family: Arial\, Helvetica\, sans-serif\; font-size: 12px\;"><span style="font-size: 12pt\;" title=""><b>Liz Harsch of Tailor-Made Advertising</b>&nbsp\;has been helping&nbsp\;small businesses make more of&nbsp\;their marketing budget since &nbsp\;1988.&nbsp\;She has been awarded by Constant Contact as an All Star Email Marketer and is Master Certified and an Authorized Local Expert to present Marketing\, Email Marketing and Social Media Workshops&nbsp\;&amp\; offers other Small Business Workshops.</span></p>\n\n<p style="margin: 0px 0px 18px\; padding: 0px\; font-family: Arial\, Helvetica\, sans-serif\; font-size: 12px\;"><br />\n&nbsp\;</p>\n\n<p style="margin: 0px 0px 18px\; padding: 0px\; font-family: Arial\, Helvetica\, sans-serif\; font-size: 12px\;">&nbsp\;</p>\n
LOCATION:Webinar
UID:e.2108.3833
SEQUENCE:3
DTSTAMP:20260423T072749Z
URL:https://business.anaheimchamber.org/events/details/jumpstart-your-2021-marketing-plan-plus-bonus-2021-marketing-checklist-3833
END:VEVENT

END:VCALENDAR
