BEGIN:VCALENDAR
VERSION:2.0
PRODID:-//ChamberMaster//Event Calendar 2.0//EN
METHOD:PUBLISH
X-PUBLISHED-TTL:P3D
REFRESH-INTERVAL:P3D
CALSCALE:GREGORIAN
BEGIN:VEVENT
DTSTART:20180324T163000Z
DTEND:20180324T210000Z
X-MICROSOFT-CDO-ALLDAYEVENT:FALSE
SUMMARY:Kitchen and Bath Remodeling Seminar
DESCRIPTION:Thinking of Remodeling?\n\nLearn from the Pros...
X-ALT-DESC;FMTTYPE=text/html:Thinking of Remodeling?<br />\nLearn from the Pros...
LOCATION:Reborn Cabinets 2981 E. La Palma Ave. Anaheim\, CA 92806
UID:e.2108.2445
SEQUENCE:3
DTSTAMP:20260422T174843Z
URL:https://business.anaheimchamber.org/events/details/kitchen-and-bath-remodeling-seminar-2445
END:VEVENT

END:VCALENDAR
