BEGIN:VCALENDAR
VERSION:2.0
PRODID:-//ChamberMaster//Event Calendar 2.0//EN
METHOD:PUBLISH
X-PUBLISHED-TTL:P3D
REFRESH-INTERVAL:P3D
CALSCALE:GREGORIAN
BEGIN:VEVENT
DTSTART:20230809T183000Z
DTEND:20230809T200000Z
X-MICROSOFT-CDO-ALLDAYEVENT:FALSE
SUMMARY:Leads Lunch - August 2023
DESCRIPTION:Join us for our August Leads Lunch at Ruby's Diner Anaheim
X-ALT-DESC;FMTTYPE=text/html:<span style="font-size:16px\;">Join us for our August Leads Lunch at Ruby&#39\;s Diner Anaheim</span>
LOCATION:Ruby's Diner 1128 W Lincoln Ave. Anaheim
UID:e.2108.5267
SEQUENCE:3
DTSTAMP:20260419T154641Z
URL:https://business.anaheimchamber.org/events/details/leads-lunch-august-2023-5267
END:VEVENT

END:VCALENDAR
