BEGIN:VCALENDAR
VERSION:2.0
PRODID:-//ChamberMaster//Event Calendar 2.0//EN
METHOD:PUBLISH
X-PUBLISHED-TTL:P3D
REFRESH-INTERVAL:P3D
CALSCALE:GREGORIAN
BEGIN:VEVENT
DTSTART:20230111T193000Z
DTEND:20230111T210000Z
X-MICROSOFT-CDO-ALLDAYEVENT:FALSE
SUMMARY:Leads Lunch - January 2023
DESCRIPTION:
X-ALT-DESC;FMTTYPE=text/html:<br />\n&nbsp\;
LOCATION:Anaheim Chamber of Commerce 2099 S. State College Blvd. Suite 650 Anaheim\, CA 92867
UID:e.2108.4636
SEQUENCE:3
DTSTAMP:20260419T223024Z
URL:https://business.anaheimchamber.org/events/details/leads-lunch-january-2023-4636
END:VEVENT

END:VCALENDAR
