BEGIN:VCALENDAR
VERSION:2.0
PRODID:-//ChamberMaster//Event Calendar 2.0//EN
METHOD:PUBLISH
X-PUBLISHED-TTL:P3D
REFRESH-INTERVAL:P3D
CALSCALE:GREGORIAN
BEGIN:VEVENT
DTSTART:20210211T180000Z
DTEND:20210211T193000Z
X-MICROSOFT-CDO-ALLDAYEVENT:FALSE
SUMMARY:Legal Forms of Organization
DESCRIPTION:The legal structure of your business impacts the time and the cost to launch\, as well as ongoing compliance requirements. Learn from an attorney about which form of organization your business could take and the tax consequences and benefits of each type of structure.
X-ALT-DESC;FMTTYPE=text/html:<span style="font-family: Lato\, Arial\, Helvetica\, sans-serif\; font-size: 16px\;">The legal structure of your business impacts the time and the cost to launch\, as well as ongoing compliance requirements. Learn from an attorney about which form of organization your business could take and the tax consequences and benefits of each type of structure.</span>
LOCATION:Webinar
UID:e.2108.3875
SEQUENCE:3
DTSTAMP:20260423T054701Z
URL:https://business.anaheimchamber.org/events/details/legal-forms-of-organization-3875
END:VEVENT

END:VCALENDAR
