BEGIN:VCALENDAR
VERSION:2.0
PRODID:-//ChamberMaster//Event Calendar 2.0//EN
METHOD:PUBLISH
X-PUBLISHED-TTL:P3D
REFRESH-INTERVAL:P3D
CALSCALE:GREGORIAN
BEGIN:VEVENT
DTSTART:20150116T200000Z
DTEND:20150116T213000Z
X-MICROSOFT-CDO-ALLDAYEVENT:FALSE
SUMMARY:Legislative Committee Meeting
DESCRIPTION:Our special guest speaker will be Assemblyman Don Wagner. Having been sworn in into his third term last month\, we will hear from Assemblyman Wagner about the challenges and opportunities posed for the business community in the 2015-2016 session\, and what bills we can expect to see making their way through the legislative process.\n\n \n\nWe will also take an early look at bills having been introduced so far for this session and examine them for their impact on both business overall as well as impacts on Anaheim and Orange County specifically.\n\n \n\nPlease RSVP your attendance to Alex Burrola at alex@anaheimchamber.org so we can arrange to have enough lunch on hand for the meeting.
X-ALT-DESC;FMTTYPE=text/html:<span style="font-size:14px\;"><span style="font-family:arial\;"><span style="color:#000000\;">Our special guest speaker will be Assemblyman Don Wagner. Having been sworn in into his third term last month\, we will hear from Assemblyman Wagner about the challenges and opportunities posed for the business community in the 2015-2016 session\, and what bills we can expect to see making their way through the legislative process.<br />\n&nbsp\;<br />\nWe will also take an early look at bills having been introduced so far for this session and examine them for their impact on both business overall as well as impacts on Anaheim and Orange County specifically.<br />\n&nbsp\;<br />\nPlease RSVP your attendance to Alex Burrola at </span><a href="mailto:alex@anaheimchamber.org"><span style="color:#0000CD\;">alex@anaheimchamber.org</span></a><span style="color:#000000\;"> so we can arrange to have enough lunch on hand for the meeting.&nbsp\;</span></span></span>
LOCATION:Anaheim Chamber of Commerce 2400 E. Katella Ave. Suite 725 Anaheim\, CA 92806
UID:e.2108.1487
SEQUENCE:3
DTSTAMP:20260420T044912Z
URL:https://business.anaheimchamber.org/events/details/legislative-committee-meeting-01-16-2015-1487
END:VEVENT

END:VCALENDAR
