BEGIN:VCALENDAR
VERSION:2.0
PRODID:-//ChamberMaster//Event Calendar 2.0//EN
METHOD:PUBLISH
X-PUBLISHED-TTL:P3D
REFRESH-INTERVAL:P3D
CALSCALE:GREGORIAN
BEGIN:VEVENT
DTSTART:20150220T200000Z
DTEND:20150220T213000Z
X-MICROSOFT-CDO-ALLDAYEVENT:FALSE
SUMMARY:Legislative Committee Meeting
DESCRIPTION:The Anaheim Chamber of Commerce Legislative Committee will welcome U.S. Congressman Ed Royce to its monthly meeting on February 20th. Royce\, representing the 39th Congressional District\, currently serves as chairman of the House Foreign Affairs Committee and has been a regular fixture on television and radio news broadcasts and in other media commenting on major world events as well as offering his perspective as a senior member of the House majority. We look forward to welcoming Congressman Royce and hearing his unique perspective on current events and how they impact the U.S. domestically\, as well as efforts going on in Congress now to promote economic growth\, job opportunities and reduce the burden of taxation and federal mandates on taxpayers and on the business community.\n\n \n\nThe committee will also hear reports from other legislative representatives and look at bills starting to move through the law making process in Sacramento\, as well as an update on local developments in Anaheim and Orange County. To RSVP please email Alex Burrola at alex@anaheimchamber.org
X-ALT-DESC;FMTTYPE=text/html:<span style="font-size:12px\;"><span style="font-family:arial\;"><span style="color:#000000\;">The Anaheim Chamber of Commerce Legislative Committee will welcome U.S. Congressman Ed Royce to its monthly meeting on February 20<sup>th</sup>. Royce\, representing the 39<sup>th</sup> Congressional District\, currently serves as chairman of the House Foreign Affairs Committee and has been a regular fixture on television and radio news broadcasts and in other media commenting on major world events as well as offering his perspective as a senior member of the House majority. We look forward to welcoming Congressman Royce and hearing his unique perspective on current events and how they impact the U.S. domestically\, as well as efforts going on in Congress now to promote economic growth\, job opportunities and reduce the burden of taxation and federal mandates on taxpayers and on the business community.<br />\n&nbsp\;<br />\nThe committee will also hear reports from other legislative representatives and look at bills starting to move through the law making process in Sacramento\, as well as an update on local developments in Anaheim and Orange County. To RSVP please email Alex Burrola at </span><a href="mailto:alex@anaheimchamber.org"><span style="color:#000000\;">alex@anaheimchamber.org</span></a></span></span><br />\n&nbsp\;
LOCATION:Anaheim Chamber of Commerce 2400 E. Katella Ave. Suite 725 Anaheim\, CA 92806
UID:e.2108.1488
SEQUENCE:3
DTSTAMP:20260420T062843Z
URL:https://business.anaheimchamber.org/events/details/legislative-committee-meeting-02-20-2015-1488
END:VEVENT

END:VCALENDAR
