BEGIN:VCALENDAR
VERSION:2.0
PRODID:-//ChamberMaster//Event Calendar 2.0//EN
METHOD:PUBLISH
X-PUBLISHED-TTL:P3D
REFRESH-INTERVAL:P3D
CALSCALE:GREGORIAN
BEGIN:VEVENT
DTSTART:20150417T190000Z
DTEND:20150417T203000Z
X-MICROSOFT-CDO-ALLDAYEVENT:FALSE
SUMMARY:Legislative Committee Meeting
DESCRIPTION:Join the Anaheim Chamber in welcoming Orange County Registrar of Voters Neal Kelley to the April Legislative Meeting. Kelley serves as the Registrar of Voters for the fifth largest voting jurisdiction in the United States\, serving more than 1.6 million registered voters.\n\n\n\nMr. Kelley will be joining us to talk about the County of Orange's elections and registrar operations\, describe how elections are planned and conducted and give us a behind the scenes look at recent elections conducted in Orange County\, as well as efforts to boost turnout among registered voters and increase voter registration among eligible citizens. Please plan to join us for this informative meeting. \n\n \n\nWe will also be looking at several very important pieces of legislation pending in Sacramento and Washington\, D.C. and taking positions on legislation we have been tracking in the 2015 legislative session.
X-ALT-DESC;FMTTYPE=text/html:<span style="color:#000001\;"><span style="font-family:arial\,sans-serif\;"><span style="font-size:10.0pt\;">Join the Anaheim Chamber in welcoming&nbsp\;Orange County Registrar of Voters Neal Kelley to the April Legislative Meeting. Kelley serves as the&nbsp\;Registrar of Voters for the fifth largest voting jurisdiction in the United States\, serving more than 1.6 million registered voters.<br />\n<br />\nMr. Kelley will be joining us to talk about the County of Orange&#39\;s elections and registrar operations\, describe how elections are planned and conducted and give us a behind the scenes look at recent elections conducted in Orange County\, as well as efforts to boost turnout among registered voters and increase voter registration among eligible citizens. Please plan to join us for this informative meeting. </span></span></span><br />\n&nbsp\;<br />\n<span style="color:#000001\;"><span style="font-family:arial\,sans-serif\;"><span style="font-size:10.0pt\;">We will also be looking at several very important pieces of legislation pending in Sacramento and Washington\, D.C. and taking positions on legislation we have been tracking in the 2015 legislative session.</span></span></span><br />\n<br />\n<br />\n<br />\n&nbsp\;
LOCATION:Anaheim Chamber of Commerce 2400 E. Katella Ave.\, Ste. 725 Anaheim\, CA 92802
UID:e.2108.1636
SEQUENCE:3
DTSTAMP:20260420T094327Z
URL:https://business.anaheimchamber.org/events/details/legislative-committee-meeting-04-17-2015-1636
END:VEVENT

END:VCALENDAR
