BEGIN:VCALENDAR
VERSION:2.0
PRODID:-//ChamberMaster//Event Calendar 2.0//EN
METHOD:PUBLISH
X-PUBLISHED-TTL:P3D
REFRESH-INTERVAL:P3D
CALSCALE:GREGORIAN
BEGIN:VEVENT
DTSTART:20150717T190000Z
DTEND:20150717T203000Z
X-MICROSOFT-CDO-ALLDAYEVENT:FALSE
SUMMARY:Legislative Committee Meeting- July 17\, 2015
DESCRIPTION:Join the Anaheim Chamber in welcoming U.S. Congresswoman Loretta Sanchez to the July Legislative Meeting.
X-ALT-DESC;FMTTYPE=text/html:<span style="color:#000001\;"><span style="font-family:arial\,sans-serif\;"><span style="font-size:10.0pt\;">Join the Anaheim Chamber in welcoming&nbsp\;U.S. Congresswoman Loretta Sanchez to the July Legislative Meeting.&nbsp\;</span></span></span><br />\n<br />\n&nbsp\;
LOCATION:Anaheim Chamber of Commerce 2400 E. Katella Ave.\, Ste. 725 Anaheim\, CA 92802
UID:e.2108.1650
SEQUENCE:3
DTSTAMP:20260420T135957Z
URL:https://business.anaheimchamber.org/events/details/legislative-committee-meeting-july-17-2015-07-17-2015-1650
END:VEVENT

END:VCALENDAR
