BEGIN:VCALENDAR
VERSION:2.0
PRODID:-//ChamberMaster//Event Calendar 2.0//EN
METHOD:PUBLISH
X-PUBLISHED-TTL:P3D
REFRESH-INTERVAL:P3D
CALSCALE:GREGORIAN
BEGIN:VEVENT
DTSTART:20150918T190000Z
DTEND:20150918T203000Z
X-MICROSOFT-CDO-ALLDAYEVENT:FALSE
SUMMARY:Legislative Committee Meeting- September 18\, 2015
DESCRIPTION:Join the Anaheim Chamber in welcoming Senator John Moorlach to the September Legislative Meeting. \n\n\n\n\n\n \n\n \n\nSPEAKER BIOGRAPHY\n\n \n\nJohn Moorlach was elected to the California Senate in a special election in March 2015\, taking the seat previously held by now-Congresswoman Mimi Walters. Moorlach had previously served as a member of the Orange County Board of Supervisors from 2006 to 2015\, and as Orange County Treasurer/Tax Collector from 1995 to 2006. Senator Moorlach represents the 37th Senate District in Sacramento\, comprised of Costa Mesa\, Irvine\, Lake Forest\, Laguna Beach\, Laguna Woods\, Newport Beach\, Tustin\, Villa Park as well as parts of Anaheim\, Huntington Beach and Orange.\n\n\n\nSenator Moorlach began his career in public service 20 years ago when he warned that the Orange County Treasurer-Tax Collector's risky investment strategies would lead to bankruptcy. His warnings proved true when Orange County filed for bankruptcy protection in December of 1994\, becoming the largest municipal bankruptcy in U.S. history. In the aftermath\, the Board of Supervisors appointed John Moorlach to serve out the term of County Treasurer-Tax Collector\, where he took immediate steps to reorganize county finances\, cut losses\, lessen risk\, and create efficiencies within government.\n\n\n\nJohn Moorlach was twice re-elected to the office of County Treasurer-Tax Collector. In 2006\, voters elected John to serve in his first of two terms on the Board of Supervisors\, where he continued his focus on reforming the county's budget practices and sounding the alarm on the county's growing unfunded liabilities.\n\n\n\nPlease join the Chamber's Legislative Committee as we welcome Senator Moorlach and gain his valuable perspective as the newest member of the Legislature and of Orange County's delegation to Sacramento and hear his views on California's business climate and the state's budget and economic situation.
X-ALT-DESC;FMTTYPE=text/html:<span style="color:#000001\;"><span style="font-family:arial\,sans-serif\;"><span style="font-size:10.0pt\;">Join the Anaheim Chamber in welcoming&nbsp\;Senator John Moorlach to the September Legislative Meeting.&nbsp\;</span></span></span><br />\n<br />\n<br />\n&nbsp\;<br />\n&nbsp\;<br />\n<strong><u><span style="font-family:times new roman\,serif\;"><span style="font-size:11.0pt\;">SPEAKER BIOGRAPHY</span></span></u></strong><br />\n&nbsp\;<br />\nJohn Moorlach was elected to the California Senate in a special election in March 2015\, taking the seat previously held by now-Congresswoman Mimi Walters. Moorlach had previously served as a member of the Orange County Board of Supervisors from 2006 to 2015\, and as Orange County Treasurer/Tax Collector from 1995 to 2006. Senator Moorlach represents the 37th Senate District in Sacramento\, comprised of Costa Mesa\, Irvine\, Lake Forest\, Laguna Beach\, Laguna Woods\, Newport Beach\, Tustin\, Villa Park as well as parts of Anaheim\, Huntington Beach and Orange.<br />\n<br />\nSenator Moorlach began his career in public service 20 years ago when he warned that the Orange County Treasurer-Tax Collector&rsquo\;s risky investment strategies would lead to bankruptcy. His warnings proved true when Orange County filed for bankruptcy protection in December of 1994\, becoming the largest municipal bankruptcy in U.S. history. In the aftermath\, the Board of Supervisors appointed John Moorlach to serve out the term of County Treasurer-Tax Collector\, where he took immediate steps to reorganize county finances\, cut losses\, lessen risk\, and create efficiencies within government.<br />\n<br />\nJohn Moorlach was twice re-elected to the office of County Treasurer-Tax Collector. In 2006\, voters elected John to serve in his first of two terms on the Board of Supervisors\, where he continued his focus on reforming the county&rsquo\;s budget practices and sounding the alarm on the county&rsquo\;s growing unfunded liabilities.<br />\n<br />\nPlease join the Chamber&rsquo\;s Legislative Committee as we welcome Senator Moorlach and gain his valuable perspective as the newest member of the Legislature and of Orange County&rsquo\;s delegation to Sacramento and hear his views on California&rsquo\;s business climate and the state&rsquo\;s budget and economic situation.
LOCATION:Anaheim Chamber of Commerce 2400 E. Katella Ave.\, Ste. 725 Anaheim\, CA 92802
UID:e.2108.1688
SEQUENCE:3
DTSTAMP:20260420T165712Z
URL:https://business.anaheimchamber.org/events/details/legislative-committee-meeting-september-18-2015-09-18-2015-1688
END:VEVENT

END:VCALENDAR
