BEGIN:VCALENDAR
VERSION:2.0
PRODID:-//ChamberMaster//Event Calendar 2.0//EN
METHOD:PUBLISH
X-PUBLISHED-TTL:P3D
REFRESH-INTERVAL:P3D
CALSCALE:GREGORIAN
BEGIN:VEVENT
DTSTART:20210128T163000Z
DTEND:20210128T173000Z
X-MICROSOFT-CDO-ALLDAYEVENT:FALSE
SUMMARY:Leveraging Co-Managed IT
DESCRIPTION:Working with in-house IT teams vs. full outsource:\n\n\n	Security Issues\, Technical Support And Maintenance\, Increasing Cost Of IT\, And Compliance Issues Are Just Some Of The Challenges Faced Today\n	Medium And Large Businesses May Not Have The Time Or Team To Manage A Robust IT Security Strategy\n	It Is Evolving Too Fast For Them To Keep Up\n	SMBs Are At Greater Risk Due To Lack Of Resources\n\n\nJoin us to see how we can help you save time and money.\n\n\n\nJoin Now : https://bit.ly/39r3JR5
X-ALT-DESC;FMTTYPE=text/html:<p>Working with in-house IT teams vs. full outsource:</p>\n\n<ul style="margin-left:40px !important\; margin-right:0px">\n	<li>Security Issues\, Technical Support And Maintenance\, Increasing Cost Of IT\, And Compliance Issues Are Just Some Of The Challenges Faced Today</li>\n	<li>Medium And Large Businesses May Not Have The Time Or Team To Manage A Robust IT Security Strategy</li>\n	<li>It Is Evolving Too Fast For Them To Keep Up</li>\n	<li>SMBs Are At Greater Risk Due To Lack Of Resources</li>\n</ul>\n\n<p>Join us to see how we can help you save time and money.<br />\n<br />\nJoin Now :&nbsp\;<strong><a href="https://cmitsolutions.com/webinar-leveraging-co-managed-it/">https://bit.ly/39r3JR5</a></strong></p>\n
LOCATION:
UID:e.2108.3853
SEQUENCE:3
DTSTAMP:20260420T100918Z
URL:https://business.anaheimchamber.org/events/details/leveraging-co-managed-it-3853
END:VEVENT

END:VCALENDAR
