BEGIN:VCALENDAR
VERSION:2.0
PRODID:-//ChamberMaster//Event Calendar 2.0//EN
METHOD:PUBLISH
X-PUBLISHED-TTL:P3D
REFRESH-INTERVAL:P3D
CALSCALE:GREGORIAN
BEGIN:VEVENT
DTSTART:20210202T220000Z
DTEND:20210202T230000Z
X-MICROSOFT-CDO-ALLDAYEVENT:FALSE
SUMMARY:Managing Your Online Presence for Travel Businesses
DESCRIPTION:
X-ALT-DESC;FMTTYPE=text/html:
LOCATION:Webinar
UID:e.2108.3858
SEQUENCE:3
DTSTAMP:20260423T054912Z
URL:https://business.anaheimchamber.org/events/details/managing-your-online-presence-for-travel-businesses-3858
END:VEVENT

END:VCALENDAR
