BEGIN:VCALENDAR
VERSION:2.0
PRODID:-//ChamberMaster//Event Calendar 2.0//EN
METHOD:PUBLISH
X-PUBLISHED-TTL:P3D
REFRESH-INTERVAL:P3D
CALSCALE:GREGORIAN
BEGIN:VEVENT
DTSTART:20161007T200000Z
DTEND:20161007T230000Z
X-MICROSOFT-CDO-ALLDAYEVENT:FALSE
SUMMARY:Manufacturing Day - Friday October 7th
DESCRIPTION:Reborn Cabinets 1st Annual Manufacturing Day.  This is a celebration of modern manufacturing meant to inspire the next generation of manufacturers.
X-ALT-DESC;FMTTYPE=text/html:Reborn Cabinets 1st Annual Manufacturing Day.&nbsp\; This is a celebration of modern manufacturing meant to inspire the next generation of manufacturers.
LOCATION:Reborn Cabinets 2981 E. La Palma Ave. Anaheim\, CA 92806
UID:e.2108.2253
SEQUENCE:3
DTSTAMP:20260421T141507Z
URL:https://business.anaheimchamber.org/events/details/manufacturing-day-friday-october-7th-2253
END:VEVENT

END:VCALENDAR
