BEGIN:VCALENDAR
VERSION:2.0
PRODID:-//ChamberMaster//Event Calendar 2.0//EN
METHOD:PUBLISH
X-PUBLISHED-TTL:P3D
REFRESH-INTERVAL:P3D
CALSCALE:GREGORIAN
BEGIN:VEVENT
DTSTART:20170311T040000Z
DTEND:20170311T070000Z
X-MICROSOFT-CDO-ALLDAYEVENT:FALSE
SUMMARY:Margo Rey Live
DESCRIPTION:Seven-time Billboard charting Margo Rey will grace the stage at City National Grove of Anaheim on Friday\, March 10 at 8:00pm. Margo Rey is a singer\, songwriter\, producer\, arranger and co- founder of the L.A. based independent record label\, Organica Music Group which bears the same name as her self-defined musical genre\, Organica. The genre can be explained as an unorthodox hybrid of pop music that is rooted in jazz with deep ethno-rhythmic grooves\, textural guitars\, keys and lush vocals. Margo continues to deliver her array of vibrant and sultry singing talents that easily compliment her gentle and uplifting melodies. Margo is known to combine a variety of organic sounds and pour every bit of emotion into each song she creates. Her alternative pop singles have captured a worldwide audience with her enduring\, socially conscious lyrics and her unforgettable\, groove oriented musical arrangements.
X-ALT-DESC;FMTTYPE=text/html:Seven-time Billboard charting Margo Rey will grace the stage at City National Grove of Anaheim on Friday\, March 10 at 8:00pm. Margo Rey is a singer\, songwriter\, producer\, arranger and co- founder of the L.A. based independent record label\, Organica Music Group which bears the same name as her self-defined musical genre\, Organica. The genre can be explained as an unorthodox hybrid of pop music that is rooted in jazz with deep ethno-rhythmic grooves\, textural guitars\, keys and lush vocals. Margo continues to deliver her array of vibrant and sultry singing talents that easily compliment her gentle and uplifting melodies. Margo is known to combine a variety of organic sounds and pour every bit of emotion into each song she creates. Her alternative pop singles have captured a worldwide audience with her enduring\, socially conscious lyrics and her unforgettable\, groove oriented musical arrangements.
LOCATION:City National Grove of Anaheim Address: 2200 E Katella Ave\, Anaheim\, CA 92806
UID:e.2108.2293
SEQUENCE:3
DTSTAMP:20260421T220000Z
URL:https://business.anaheimchamber.org/events/details/margo-rey-live-2293
END:VEVENT

END:VCALENDAR
