BEGIN:VCALENDAR
VERSION:2.0
PRODID:-//ChamberMaster//Event Calendar 2.0//EN
METHOD:PUBLISH
X-PUBLISHED-TTL:P3D
REFRESH-INTERVAL:P3D
CALSCALE:GREGORIAN
BEGIN:VEVENT
DTSTART:20211103T000000Z
DTEND:20211103T010000Z
X-MICROSOFT-CDO-ALLDAYEVENT:FALSE
SUMMARY:Marketing Series: Email Marketing
DESCRIPTION:No charge webinar: You will learn: Why marketing is essential to your business\, How you can have an impact on your marketing\, Tips and tricks for success Techniques of the trade
X-ALT-DESC;FMTTYPE=text/html:<span style="color: rgb(27\, 30\, 41)\; font-family: &quot\;Source Sans Pro&quot\;\, &quot\;Helvetica Neue&quot\;\, Helvetica\, Arial\, sans-serif\; font-size: 18px\; letter-spacing: -0.4px\;">No charge webinar: You will learn: Why marketing is essential to your business\, How you can have an impact on your marketing\, Tips and tricks for success Techniques of the trade</span>
LOCATION:Webinar
UID:e.2108.4484
SEQUENCE:3
DTSTAMP:20260420T195753Z
URL:https://business.anaheimchamber.org/events/details/marketing-series-email-marketing-4484
END:VEVENT

END:VCALENDAR
