BEGIN:VCALENDAR
VERSION:2.0
PRODID:-//ChamberMaster//Event Calendar 2.0//EN
METHOD:PUBLISH
X-PUBLISHED-TTL:P3D
REFRESH-INTERVAL:P3D
CALSCALE:GREGORIAN
BEGIN:VEVENT
DTSTART:20170510T120000Z
DTEND:20170511T065500Z
X-MICROSOFT-CDO-ALLDAYEVENT:FALSE
SUMMARY:Meat up at Norms for our NEW Limited Time Offers!
DESCRIPTION:Enjoy Steak & Eggs Starting from $8.99\n\nServed all day\, every day for a limited time only!\n\n\n\nIncludes two farm-fresh Eggs\, Hash Browns or fresh-cut seasonal Fruit and your choice of Toast & Jelly\, English Muffin\, Biscuit & Gravy or two Hotcakes.
X-ALT-DESC;FMTTYPE=text/html:Enjoy Steak &amp\; Eggs Starting from $8.99<br />\nServed all day\, every day for a limited time only!<br />\n<br />\nIncludes two farm-fresh Eggs\, Hash Browns or fresh-cut seasonal Fruit and your choice of Toast &amp\; Jelly\, English Muffin\, Biscuit &amp\; Gravy or two Hotcakes.&nbsp\;
LOCATION:Norms Restaurant - Anaheim - 1125 N. Euclid Street Anaheim\, CA 92801
UID:e.2108.2341
SEQUENCE:3
DTSTAMP:20260422T014727Z
URL:https://business.anaheimchamber.org/events/details/meat-up-at-norms-for-our-new-limited-time-offers-2341
END:VEVENT

END:VCALENDAR
