BEGIN:VCALENDAR
VERSION:2.0
PRODID:-//ChamberMaster//Event Calendar 2.0//EN
METHOD:PUBLISH
X-PUBLISHED-TTL:P3D
REFRESH-INTERVAL:P3D
CALSCALE:GREGORIAN
BEGIN:VEVENT
DTSTART:20180601T003000Z
DTEND:20180601T020000Z
X-MICROSOFT-CDO-ALLDAYEVENT:FALSE
SUMMARY:MemorialCare Medical Group Anaheim Health Center Ribbon Cutting Event
DESCRIPTION:MemorialCare Medical Group together with Anaheim Chamber of Commerce\, invites you to a special ribbon cutting event celebrating the grand opening of our Anaheim Health Center. Enjoy hors d'oeuvres and wine. Enter our opportunity drawings for a chance to win an iPad and other fabulous prizes.\n\nEvent Contact: Elisabeth Sezonov 714.377.3196
X-ALT-DESC;FMTTYPE=text/html:<p>MemorialCare Medical Group together with Anaheim Chamber of Commerce\, invites you to a special ribbon cutting event celebrating the grand opening of our <strong>Anaheim Health Center</strong>. Enjoy hors d&rsquo\;oeuvres and wine. Enter our opportunity drawings for a chance to win an iPad and other fabulous prizes.</p>\n\n<p><em>Event Contact: Elisabeth Sezonov 714.377.3196</em></p>\n
LOCATION:100 S. Anaheim Blvd.\, Suite 101\, Anaheim\, CA 92805
UID:e.2108.2475
SEQUENCE:3
DTSTAMP:20260422T205051Z
URL:https://business.anaheimchamber.org/events/details/memorialcare-medical-group-anaheim-health-center-ribbon-cutting-event-2475
END:VEVENT

END:VCALENDAR
