BEGIN:VCALENDAR
VERSION:2.0
PRODID:-//ChamberMaster//Event Calendar 2.0//EN
METHOD:PUBLISH
X-PUBLISHED-TTL:P3D
REFRESH-INTERVAL:P3D
CALSCALE:GREGORIAN
BEGIN:VEVENT
DTSTART:20180325T160000Z
DTEND:20180325T190000Z
X-MICROSOFT-CDO-ALLDAYEVENT:FALSE
SUMMARY:Mini Golf Fundraising
DESCRIPTION:Come to Clear Motivations Fundraising. This exciting event includes Mini Golf at Camelot Golfland\, 20 arcade credits\, pizza\, and drinks\, early bird breakfast\, silent auction\, \n\nThe money raised will subsidize many programs that assist our participants with disabilities to become self-sufficient and fully participate in our community.
X-ALT-DESC;FMTTYPE=text/html:Come to Clear Motivations Fundraising. This exciting event includes Mini Golf at Camelot Golfland\, 20 arcade credits\, pizza\, and drinks\, early bird breakfast\, silent auction\,&nbsp\;<br />\nThe money raised will subsidize many programs that assist our participants with disabilities to become self-sufficient and fully participate in our community.
LOCATION:Camelot - Golfland 3200 East Carpenter Ave. Anaheim\, Ca 92806
UID:e.2108.2460
SEQUENCE:3
DTSTAMP:20260422T173154Z
URL:https://business.anaheimchamber.org/events/details/mini-golf-fundraising-2460
END:VEVENT

END:VCALENDAR
