BEGIN:VCALENDAR
VERSION:2.0
PRODID:-//ChamberMaster//Event Calendar 2.0//EN
METHOD:PUBLISH
X-PUBLISHED-TTL:P3D
REFRESH-INTERVAL:P3D
CALSCALE:GREGORIAN
BEGIN:VEVENT
DTSTART:20210223T020000Z
DTEND:20210223T033000Z
X-MICROSOFT-CDO-ALLDAYEVENT:FALSE
SUMMARY:Morning Q&A with A Counselor
DESCRIPTION:Start your Tuesday morning off right! Enjoy your favorite morning beverage with information\, motivation\, and encouragement provided by one of our IEWBC business counselors.
X-ALT-DESC;FMTTYPE=text/html:<span style="font-family: Lato\, Arial\, Helvetica\, sans-serif\; font-size: 16px\;">Start your Tuesday morning off right! Enjoy your favorite morning beverage with information\, motivation\, and encouragement provided by one of our IEWBC business counselors.</span>
LOCATION:Webinar
UID:e.2108.3891
SEQUENCE:3
DTSTAMP:20260423T054622Z
URL:https://business.anaheimchamber.org/events/details/morning-q-a-with-a-counselor-3891
END:VEVENT

END:VCALENDAR
