BEGIN:VCALENDAR
VERSION:2.0
PRODID:-//ChamberMaster//Event Calendar 2.0//EN
METHOD:PUBLISH
X-PUBLISHED-TTL:P3D
REFRESH-INTERVAL:P3D
CALSCALE:GREGORIAN
BEGIN:VEVENT
DTSTART:20230810T000000Z
DTEND:20230810T040000Z
X-MICROSOFT-CDO-ALLDAYEVENT:FALSE
SUMMARY:Multi-Chamber Night at the Angel Stadium
DESCRIPTION:Join us for Chamber Night at Angel Stadium on Wednesday\, August 9th as the Angels take on the San Francisco Giants at 6:38pm!\n\n\n\n \n\nA pregame mixer in the Rose Garden when gates open starting at 5pm. Friends\, family\, guests\, etc. are all welcome to attend.\n\n\n\nTo order tickets please go to https://fevo.me/angelschambernight2023
X-ALT-DESC;FMTTYPE=text/html:<p style="color: rgb(51\, 51\, 51)\; font-family: sans-serif\, Arial\, Verdana\, &quot\;Trebuchet MS&quot\;\; font-size: 13px\; background: white\; margin: 0in\;"><span style="font-size: 16px\;"><span style="font-family: verdana\;"><span style="color: rgb(33\, 32\, 31)\;">Join us for Chamber Night at Angel Stadium on Wednesday\, August 9th as the Angels take on the San Francisco Giants at 6:38pm!</span></span></span><br />\n<span style="font-size: 10.5pt\; font-family: Helvetica\, sans-serif\; color: rgb(33\, 32\, 31)\;"><o:p></o:p></span></p>\n\n<p style="color: rgb(51\, 51\, 51)\; font-family: sans-serif\, Arial\, Verdana\, &quot\;Trebuchet MS&quot\;\; font-size: 13px\; background: white\; margin: 0in\;">&nbsp\;</p>\n\n<p style="color: rgb(51\, 51\, 51)\; font-family: sans-serif\, Arial\, Verdana\, &quot\;Trebuchet MS&quot\;\; font-size: 13px\; background: white\; margin: 0in\;"><span style="font-size:16px\;"><span style="font-family: verdana\;"><span style="color: rgb(33\, 32\, 31)\;">A&nbsp\;pregame mixer in the Rose Garden when gates open starting at 5pm. Friends\, family\, guests\, etc. are all welcome to attend.<br />\n<br />\nTo order tickets please go to&nbsp\;</span></span><strong><span style="font-family:calibri\,sans-serif\;"><a href="https://fevo.me/angelschambernight2023"><span style="color:#800000\;"><span style="font-family:arial\,sans-serif\;">https://fevo.me/angelschambernight2023</span></span></a></span></strong></span></p>\n
LOCATION:
UID:e.2108.5269
SEQUENCE:3
DTSTAMP:20260419T154743Z
URL:https://business.anaheimchamber.org/events/details/multi-chamber-night-at-the-angel-stadium-5269
END:VEVENT

END:VCALENDAR
