BEGIN:VCALENDAR
VERSION:2.0
PRODID:-//ChamberMaster//Event Calendar 2.0//EN
METHOD:PUBLISH
X-PUBLISHED-TTL:P3D
REFRESH-INTERVAL:P3D
CALSCALE:GREGORIAN
BEGIN:VEVENT
DTSTART:20200528T230000Z
DTEND:20200529T000000Z
X-MICROSOFT-CDO-ALLDAYEVENT:FALSE
SUMMARY:Networking Happy Hour
DESCRIPTION:The coronavirus pandemic continues to affect the business community here in Anaheim. As the situation evolves\, we are here to bring you the latest updates and resources to help your business navigate through these challenging times. Please join us for the informative session.
X-ALT-DESC;FMTTYPE=text/html:The coronavirus pandemic continues to affect the business community here in Anaheim. As the situation evolves\, we are here to bring you the latest updates and resources to help your business navigate through these challenging times. Please join us for the informative session.
LOCATION:Register in advance for this meeting: https://us02web.zoom.us/meeting/register/upMqd-ytpzMuEtE8bQFkozg7rmwNthVplsnb
UID:e.2108.3582
SEQUENCE:3
DTSTAMP:20260423T012627Z
URL:https://business.anaheimchamber.org/events/details/networking-happy-hour-05-28-2020-3582
END:VEVENT

END:VCALENDAR
