BEGIN:VCALENDAR
VERSION:2.0
PRODID:-//ChamberMaster//Event Calendar 2.0//EN
METHOD:PUBLISH
X-PUBLISHED-TTL:P3D
REFRESH-INTERVAL:P3D
CALSCALE:GREGORIAN
BEGIN:VEVENT
DTSTART:20180302T153000Z
DTEND:20180302T170000Z
X-MICROSOFT-CDO-ALLDAYEVENT:FALSE
SUMMARY:New Member Orientation - 3/2/2018
DESCRIPTION:Make the most of your Chamber Membership\n\n- Learn about the Chamber\n\n- How to get the most out of your membership\n\n- Marquee Events and Networking events\n\n- Learn how to enhance and grow your business\n\n- Meet some Chamber Directors and other new members
X-ALT-DESC;FMTTYPE=text/html:Make the most of your Chamber Membership<br />\n- Learn about the Chamber<br />\n- How to get the most out of your membership<br />\n- Marquee Events and Networking events<br />\n- Learn how to enhance and grow your business<br />\n- Meet some Chamber Directors and other new members
LOCATION:2099 S St College Dr Anaheim\, CA
UID:e.2108.2437
SEQUENCE:3
DTSTAMP:20260422T174105Z
URL:https://business.anaheimchamber.org/events/details/new-member-orientation-3-2-2018-2437
END:VEVENT

END:VCALENDAR
