BEGIN:VCALENDAR
VERSION:2.0
PRODID:-//ChamberMaster//Event Calendar 2.0//EN
METHOD:PUBLISH
X-PUBLISHED-TTL:P3D
REFRESH-INTERVAL:P3D
CALSCALE:GREGORIAN
BEGIN:VEVENT
DTSTART:20230727T143000Z
DTEND:20230727T160000Z
X-MICROSOFT-CDO-ALLDAYEVENT:FALSE
SUMMARY:New Member Orientation
DESCRIPTION:Join the Anaheim Chamber of Commerce for our New Member Orientation!\n\n \n\nCome and learn how to maximize your membership benefits\, how to promote your business\, and meet potential customers.  You'll also learn how our resource partners can help your business thrive.
X-ALT-DESC;FMTTYPE=text/html:<span style="font-size:16px\;"><span style="font-family:tahoma\;">Join the Anaheim Chamber of Commerce for our New Member Orientation!<br />\n&nbsp\;<br />\nCome and learn how to maximize your membership benefits\, how to promote your business\, and meet potential customers.&nbsp\; You&rsquo\;ll also learn how our resource partners can help your business thrive.&nbsp\;&nbsp\;</span></span>
LOCATION:Anaheim Chamber of Commerce 2099 S State College Blvd\, Suite 650 Anaheim 92806
UID:e.2108.5268
SEQUENCE:3
DTSTAMP:20260419T154641Z
URL:https://business.anaheimchamber.org/events/details/new-member-orientation-5268
END:VEVENT

END:VCALENDAR
