BEGIN:VCALENDAR
VERSION:2.0
PRODID:-//ChamberMaster//Event Calendar 2.0//EN
METHOD:PUBLISH
X-PUBLISHED-TTL:P3D
REFRESH-INTERVAL:P3D
CALSCALE:GREGORIAN
BEGIN:VEVENT
DTSTART:20210219T180000Z
DTEND:20210219T200000Z
X-MICROSOFT-CDO-ALLDAYEVENT:FALSE
SUMMARY:No Longer the I.E.’s Best Kept Secret: Marketing and Networking
DESCRIPTION:Join us to hear from local black-owned business owners who plan to no longer be the Inland Empire's Best Kept Secret. Expand your network\, become inspired\, and gain knowledge in a virtual setting with like-minded entrepreneurs.
X-ALT-DESC;FMTTYPE=text/html:<span style="color: rgb(0\, 0\, 0)\; font-family: Lato\, Arial\, Helvetica\, sans-serif\; font-size: 16px\;">Join us to hear from local black-owned business owners who plan to no longer be the Inland Empire&#39\;s Best Kept Secret. Expand your network\, become inspired\, and gain knowledge in a virtual setting with like-minded entrepreneurs.</span>
LOCATION:Webinar
UID:e.2108.3889
SEQUENCE:3
DTSTAMP:20260423T054656Z
URL:https://business.anaheimchamber.org/events/details/no-longer-the-i-e-s-best-kept-secret-marketing-and-networking-3889
END:VEVENT

END:VCALENDAR
