BEGIN:VCALENDAR
VERSION:2.0
PRODID:-//ChamberMaster//Event Calendar 2.0//EN
METHOD:PUBLISH
X-PUBLISHED-TTL:P3D
REFRESH-INTERVAL:P3D
CALSCALE:GREGORIAN
BEGIN:VEVENT
DTSTART:20180303T030000Z
DTEND:20180303T053000Z
X-MICROSOFT-CDO-ALLDAYEVENT:FALSE
SUMMARY:No Quarter - The Led Zeppelin Experience: Live!
DESCRIPTION:"No Quarter brings their authentic live performance of the legendary British Supergroup to Anaheim. This International Legacy act recreates Led Zeppelin in every detail at their Prime. A must see for Led Zeppelin fans. Come have a "Celebration Day" and relive a Led Zeppelin Experience from "years ago in days of old when magic filled the air."\n\n\n\n"The best Led Zeppelin band on the planet" - Dennis D Amico\, Paul McCartney Exec. Producer\n\n\n\n(We'll have mexican food to order and a cash bar.)
X-ALT-DESC;FMTTYPE=text/html:<strong><span style="color:rgb(75\, 79\, 86)\; font-family:helvetica\,arial\,sans-serif\; font-size:14px">&quot\;No Quarter brings their authentic live performance of the legendary British Supergroup to Anaheim. This International Legacy act recreates Led Zeppelin in every detail at their Prime. A must see for Led Zeppelin fans. Come have a &quot\;Celebration Day&quot\; and relive a Led Zeppelin Experience from &quot\;years ago in days of old when magic filled the air.&quot\;<br />\n<br />\n<em>&quot\;The best Led Zeppelin band on the planet&quot\; - Dennis D Amico\, Paul McCartney Exec. Producer</em><br />\n<br />\n(We&#39\;ll have mexican food to order and a cash bar.)</span></strong>
LOCATION:Highway 39 Event Center 1563 S State College Blvd Anaheim\, CA 92806
UID:e.2108.2448
SEQUENCE:3
DTSTAMP:20260422T173642Z
URL:https://business.anaheimchamber.org/events/details/no-quarter-the-led-zeppelin-experience-live-2448
END:VEVENT

END:VCALENDAR
