BEGIN:VCALENDAR
VERSION:2.0
PRODID:-//ChamberMaster//Event Calendar 2.0//EN
METHOD:PUBLISH
X-PUBLISHED-TTL:P3D
REFRESH-INTERVAL:P3D
CALSCALE:GREGORIAN
BEGIN:VEVENT
DTSTART:20170616T143000Z
DTEND:20170616T203000Z
X-MICROSOFT-CDO-ALLDAYEVENT:FALSE
SUMMARY:OC Water Summit
DESCRIPTION:Join nearly 400 business and community leaders\, elected officials\, professors\, and water experts for the 10th Annual OC Water Summit to find solutions to local\, state\, national\, and international water challenges. This one-of-a-kind event engages experts and influencers in discussion of new and ongoing water supply challenges\, water policy issues\, and other important water-related topics that impact our economy and public health. Hosted by Fritz Coleman\, NBC4 Weathercaster Presented by Orange County Water District\, Municipal Water District of Orange County and the Disneyland Resort
X-ALT-DESC;FMTTYPE=text/html:Join nearly 400 business and community leaders\, elected officials\, professors\, and water experts for the 10th Annual OC Water Summit to find solutions to local\, state\, national\, and international water challenges. This one-of-a-kind event engages experts and influencers in discussion of new and ongoing water supply challenges\, water policy issues\, and other important water-related topics that impact our economy and public health. Hosted by Fritz Coleman\, NBC4 Weathercaster Presented by Orange County Water District\, Municipal Water District of Orange County and the Disneyland Resort
LOCATION:Grand Californian Hotel & Spa at the Disneyland Resort 1600 South Disneyland Drive Anaheim\, CA 92802
UID:e.2108.2355
SEQUENCE:3
DTSTAMP:20260422T025850Z
URL:https://business.anaheimchamber.org/events/details/oc-water-summit-2355
END:VEVENT

END:VCALENDAR
