BEGIN:VCALENDAR
VERSION:2.0
PRODID:-//ChamberMaster//Event Calendar 2.0//EN
METHOD:PUBLISH
X-PUBLISHED-TTL:P3D
REFRESH-INTERVAL:P3D
CALSCALE:GREGORIAN
BEGIN:VEVENT
DTSTART:20200302T173000Z
DTEND:20200302T173000Z
X-MICROSOFT-CDO-ALLDAYEVENT:FALSE
SUMMARY:ONE YEAR ANNIVERSARY OF NORTH COUNTY BRANCH OFFICE IN ANAHEIM
DESCRIPTION:Clerk-Recorder Hugh Nguyen will be celebrating the one year anniversary of the opening of his department's North County Branch Office in Anaheim. The office opened in March of 2019 and has grown busier day by day in serving the needs of residents from North Orange County. The celebration will start at 9:30 a.m. on Monday\, March 2\, 2020. It will take place at the department's North County Branch Office inside the Wells Fargo Building located at 222 N. Harbor Blvd.\, Ste. 110\, Anaheim\, CA 92805. Parking is available in the Wells Fargo Parking Garage which enters on Broadway or street side in the free 90 minute zones.
X-ALT-DESC;FMTTYPE=text/html:Clerk-Recorder Hugh Nguyen will be celebrating the one year anniversary of the opening of his department&rsquo\;s North County Branch Office in Anaheim. The office opened in March of 2019 and has grown busier day by day in serving the needs of residents from North Orange County. The celebration will start at 9:30 a.m. on Monday\, March 2\, 2020. It will take place at the department&rsquo\;s North County Branch Office inside the Wells Fargo Building located at 222 N. Harbor Blvd.\, Ste. 110\, Anaheim\, CA 92805. Parking is available in the Wells Fargo Parking Garage which enters on Broadway or street side in the free 90 minute zones.
LOCATION:North County Branch Office inside the Wells Fargo Building located at 222 N. Harbor Blvd.\, Ste. 110\, Anaheim\, CA 92805
UID:e.2108.3159
SEQUENCE:3
DTSTAMP:20260420T115217Z
URL:https://business.anaheimchamber.org/events/details/one-year-anniversary-of-north-county-branch-office-in-anaheim-3159
END:VEVENT

END:VCALENDAR
