BEGIN:VCALENDAR
VERSION:2.0
PRODID:-//ChamberMaster//Event Calendar 2.0//EN
METHOD:PUBLISH
X-PUBLISHED-TTL:P3D
REFRESH-INTERVAL:P3D
CALSCALE:GREGORIAN
BEGIN:VEVENT
DTSTART:20150704T143000Z
DTEND:20150704T170000Z
X-MICROSOFT-CDO-ALLDAYEVENT:FALSE
SUMMARY:Pancake Breakfast - Anaheim Hills Fourth of July Celebration
DESCRIPTION:Canyon High School and The Anaheim Hills Rotary present the 27th Annual Pancake Breakfast at the Canyon High School track on Saturday\, July 4th.\n\n\n\nPancake breakfast will start 7:30am following the Firecracker 5K/10K
X-ALT-DESC;FMTTYPE=text/html:Canyon High School and The Anaheim Hills Rotary present the 27th Annual Pancake Breakfast at the Canyon High School track on Saturday\, July 4th.<br />\n<br />\nPancake breakfast will start 7:30am following the Firecracker 5K/10K
LOCATION:Canyon High School Track 220 S Imperial Highway Anaheim\, CA 92807
UID:e.2108.1676
SEQUENCE:3
DTSTAMP:20260420T140032Z
URL:https://business.anaheimchamber.org/events/details/pancake-breakfast-anaheim-hills-fourth-of-july-celebration-07-04-2015-1676
END:VEVENT

END:VCALENDAR
