BEGIN:VCALENDAR
VERSION:2.0
PRODID:-//ChamberMaster//Event Calendar 2.0//EN
METHOD:PUBLISH
X-PUBLISHED-TTL:P3D
REFRESH-INTERVAL:P3D
CALSCALE:GREGORIAN
BEGIN:VEVENT
DTSTART:20180704T143000Z
DTEND:20180704T163000Z
X-MICROSOFT-CDO-ALLDAYEVENT:FALSE
SUMMARY:Pancake Tickets
DESCRIPTION:Pancake Breakfast Tickets to the Firecracker Run and July 4th Celebration
X-ALT-DESC;FMTTYPE=text/html:Pancake Breakfast Tickets to the Firecracker Run and July 4th&nbsp\;Celebration
LOCATION:Canyon High School Track
UID:e.2108.2484
SEQUENCE:3
DTSTAMP:20260422T234804Z
URL:https://business.anaheimchamber.org/events/details/pancake-tickets-2484
END:VEVENT

END:VCALENDAR
