BEGIN:VCALENDAR
VERSION:2.0
PRODID:-//ChamberMaster//Event Calendar 2.0//EN
METHOD:PUBLISH
X-PUBLISHED-TTL:P3D
REFRESH-INTERVAL:P3D
CALSCALE:GREGORIAN
BEGIN:VEVENT
DTSTART:20160910T143000Z
DTEND:20160910T210000Z
X-MICROSOFT-CDO-ALLDAYEVENT:FALSE
SUMMARY:Patriot Day Openhouse/Fundraiser
DESCRIPTION:Come out and support Patriots and Paws with our Patriot Day Openhouse/Fundraiser.  Breakfast/Lunch served from 7:30 - 2:00. Tickets $5.00 per ticket per person per meal.  Come out and take a tour of our warehouse located at 1515 W. Collins\, Orange and see first hand what we do helping our Veterans/Active Duty/Reservists.  We will have vendor booths and sponsorships available.  For more information email us at events@patriotsandpaws.org.  Can't join us\, buy a ticket for a Veteran.
X-ALT-DESC;FMTTYPE=text/html:<strong><span style="color:rgb(255\, 0\, 0)">Come out and support Patriots and Paws with our Patriot Day Openhouse/Fundraiser.</span></strong>&nbsp\;&nbsp\;Breakfast/Lunch served from 7:30 - 2:00. Tickets $5.00 per ticket per person per meal. &nbsp\;Come out and take a tour of our warehouse located at&nbsp\;<strong><span style="color:rgb(0\, 0\, 255)">1515 W. Collins\, Orange</span></strong>&nbsp\;and see first hand what we do helping our Veterans/Active Duty/Reservists. &nbsp\;We will have vendor booths and sponsorships available. &nbsp\;For more information email us at events@patriotsandpaws.org. &nbsp\;Can&#39\;t join us\, buy a ticket for a Veteran.
LOCATION:
UID:e.2108.1897
SEQUENCE:3
DTSTAMP:20260421T124229Z
URL:https://business.anaheimchamber.org/events/details/patriot-day-openhouse-fundraiser-09-10-2016-1897
END:VEVENT

END:VCALENDAR
