BEGIN:VCALENDAR
VERSION:2.0
PRODID:-//ChamberMaster//Event Calendar 2.0//EN
METHOD:PUBLISH
X-PUBLISHED-TTL:P3D
REFRESH-INTERVAL:P3D
CALSCALE:GREGORIAN
BEGIN:VEVENT
DTSTART:20261003T160000Z
DTEND:20261003T210000Z
X-MICROSOFT-CDO-ALLDAYEVENT:FALSE
SUMMARY:Patriots and Paws: 12th Annual Car/Motorcycle Show
DESCRIPTION:Come out and join Patriots and Paws for its 12th Annual Car/Motorcycle show in the beautiful setting of Canyon RV Park.\n\n\nThis is a family friendly event\, music\, vendors and outdoors.  \n\n\n\nThere is a $10.00 per carload cost to enter the Park.  \n\n\n\nBring your family and friends and enjoy the day.\n\n\n\n24001 E.  Santa Ana Canyon Blvd.\, Anaheim.  \n\n\n\n9:00 AM - 2:00 PM.\n\n\n\npatriotsandpawscarshow.com
X-ALT-DESC;FMTTYPE=text/html:<h1><strong><span style="color:#FF0000">Come out and join Patriots and Paws for its&nbsp\;12th Annual Car/Motorcycle show in the beautiful setting of Canyon RV Park.</span></strong></h1>\n<br />\nThis is a family friendly event\, music\, vendors and outdoors. &nbsp\;<br />\n<br />\n<strong><span style="color:#0000FF">There is a $10.00 per carload cost to enter the Park. </span></strong>&nbsp\;<br />\n<br />\nBring your family and friends and enjoy the day.<br />\n<br />\n24001 E. &nbsp\;Santa Ana Canyon Blvd.\, Anaheim. &nbsp\;<br />\n<br />\n9:00 AM - 2:00 PM.<br />\n<br />\npatriotsandpawscarshow.com<br />\n&nbsp\;
LOCATION:Canyon RV Park 24001 E. Santa Ana Canyon Rd. Anaheim\, CA
UID:e.2108.5912
SEQUENCE:3
DTSTAMP:20260424T103209Z
URL:https://business.anaheimchamber.org/events/details/patriots-and-paws-12th-annual-car-motorcycle-show-5912
END:VEVENT

END:VCALENDAR
