BEGIN:VCALENDAR
VERSION:2.0
PRODID:-//ChamberMaster//Event Calendar 2.0//EN
METHOD:PUBLISH
X-PUBLISHED-TTL:P3D
REFRESH-INTERVAL:P3D
CALSCALE:GREGORIAN
BEGIN:VEVENT
DTSTART:20210209T180000Z
DTEND:20210209T193000Z
X-MICROSOFT-CDO-ALLDAYEVENT:FALSE
SUMMARY:Pivot: How to Survive and Thrive with What You Already Have (Without Going Crazy!)
DESCRIPTION:Training Topics: COVID-19 General Support\, Managing a Business\, Risk Management\, Specialized Assistance\, Woman-owned Businesses\n\n\n\nInstructions: In response to COVID-19 public health concerns\, all workshops will be held on ZOOM\, an online video platform\, until further notice. To maintain quality and security during virtual events\, you will be sent a link to join the meeting on the day of the event\, up to 30 minutes prior to the scheduled start time. If you do not receive the link check your spam inbox then call (909)-890-1242 for assistance.
X-ALT-DESC;FMTTYPE=text/html:<label style="font-weight: bold\; line-height: 20px\; color: rgb(0\, 0\, 0)\; font-family: Lato\, Arial\, Helvetica\, sans-serif\; font-size: 16px\;">Training Topics:</label><span style="color: rgb(0\, 0\, 0)\; font-family: Lato\, Arial\, Helvetica\, sans-serif\; font-size: 16px\;">&nbsp\;COVID-19 General Support\, Managing a Business\, Risk Management\, Specialized Assistance\, Woman-owned Businesses</span><br style="color: rgb(0\, 0\, 0)\; font-family: Lato\, Arial\, Helvetica\, sans-serif\; font-size: 16px\;" />\n<br style="color: rgb(0\, 0\, 0)\; font-family: Lato\, Arial\, Helvetica\, sans-serif\; font-size: 16px\;" />\n<label style="font-weight: bold\; line-height: 20px\; color: rgb(0\, 0\, 0)\; font-family: Lato\, Arial\, Helvetica\, sans-serif\; font-size: 16px\;">Instructions:</label><span style="color: rgb(0\, 0\, 0)\; font-family: Lato\, Arial\, Helvetica\, sans-serif\; font-size: 16px\;">&nbsp\;In response to COVID-19 public health concerns\, all workshops will be held on ZOOM\, an online video platform\, until further notice. To maintain quality and security during virtual events\, you will be sent a link to join the meeting on the day of the event\, up to 30 minutes prior to the scheduled start time. If you do not receive the link check your spam inbox then call (909)-890-1242 for assistance.</span>
LOCATION:Webinar
UID:e.2108.3871
SEQUENCE:3
DTSTAMP:20260423T054626Z
URL:https://business.anaheimchamber.org/events/details/pivot-how-to-survive-and-thrive-with-what-you-already-have-without-going-crazy-3871
END:VEVENT

END:VCALENDAR
