BEGIN:VCALENDAR
VERSION:2.0
PRODID:-//ChamberMaster//Event Calendar 2.0//EN
METHOD:PUBLISH
X-PUBLISHED-TTL:P3D
REFRESH-INTERVAL:P3D
CALSCALE:GREGORIAN
BEGIN:VEVENT
DTSTART:20200521T180000Z
DTEND:20200521T190000Z
X-MICROSOFT-CDO-ALLDAYEVENT:FALSE
SUMMARY:Pivoting your Business in Response to COVID-19
DESCRIPTION:The COVID-19 crisis has made it necessary for many commercial companies to shift their business models quickly. Many are re-purposing their assets to create new value\, protect the brand and survive. Pivoting the business model into survival mode is foremost on the minds of entrepreneurs. It is clear that changing business models is less risky than doing nothing. All good pivots start with great questions. In this FREE webinar\, you'll learn: 1. Three business model aspects you should explore when deciding on potential pivots. 2. Three key steps to pivoting quickly to a new business model. 3. Two essential elements of a successful pivot.
X-ALT-DESC;FMTTYPE=text/html:<span style="color: rgb(27\, 30\, 41)\; font-family: &quot\;Source Sans Pro&quot\;\, &quot\;Helvetica Neue&quot\;\, Helvetica\, Arial\, sans-serif\; font-size: 18px\; letter-spacing: -0.4px\;">The COVID-19 crisis has made it necessary for many commercial companies to shift their business models quickly. Many are re-purposing their assets to create new value\, protect the brand and survive. Pivoting the business model into survival mode is foremost on the minds of entrepreneurs. It is clear that changing business models is less risky than doing nothing. All good pivots start with great questions. In this FREE webinar\, you&#39\;ll learn: 1. Three business model aspects you should explore when deciding on potential pivots. 2. Three key steps to pivoting quickly to a new business model. 3. Two essential elements of a successful pivot.</span>
LOCATION:Online
UID:e.2108.3591
SEQUENCE:3
DTSTAMP:20260425T025046Z
URL:https://business.anaheimchamber.org/events/details/pivoting-your-business-in-response-to-covid-19-3591
END:VEVENT

END:VCALENDAR
