BEGIN:VCALENDAR
VERSION:2.0
PRODID:-//ChamberMaster//Event Calendar 2.0//EN
METHOD:PUBLISH
X-PUBLISHED-TTL:P3D
REFRESH-INTERVAL:P3D
CALSCALE:GREGORIAN
BEGIN:VEVENT
DTSTART;VALUE=DATE:20180519
DTEND;VALUE=DATE:20180520
TRANSP:TRANSPARENT
X-MICROSOFT-CDO-ALLDAYEVENT:TRUE
SUMMARY:Poker Tournament
DESCRIPTION:Poker Tournament supporting SLDC. Come to play or just to hang out. There will be food\, entertainment\, cigar lounge\, and drink tasting stations to enjoy! \n\nTickets to play are $75 and include buy-ins\, dinner\, and 2 drink tickets. For $40 you can come and enjoy without playing a hand\, price includes dinner and 1 drink ticket.\n\n\n\nWinner will receive a $500 Visa Gift Card\n\n\n\nFood generously donated by Jav's Bar-B-Q\, Infinity Sauces\, and Moondance Catering!
X-ALT-DESC;FMTTYPE=text/html:<p><span style="color:rgb(29\, 33\, 41)\; font-family:helvetica\,arial\,sans-serif\; font-size:14px">Poker Tournament supporting SLDC. Come to play or just to hang out. There will be food\, entertainment\, cigar lounge\, and drink tasting stations to enjoy!&nbsp\;</span><br />\n<span style="color:rgb(29\, 33\, 41)\; font-family:helvetica\,arial\,sans-serif\; font-size:14px">Tickets to play are $75 and include buy-ins\, dinner\, and 2 drink tickets. For $40 you can come and enjoy without playing a hand\, price includes dinner and 1 drink ticket.</span><br />\n<br />\n<span style="color:rgb(29\, 33\, 41)\; font-family:helvetica\,arial\,sans-serif\; font-size:14px">Winner will receive a $500 Visa Gift Card</span><br />\n<br />\n<span style="color:rgb(29\, 33\, 41)\; font-family:helvetica\,arial\,sans-serif\; font-size:14px">Food generously donated by&nbsp\;</span><a href="https://www.facebook.com/JavsBBQ/" style="color: rgb(54\, 88\, 153)\; cursor: pointer\; text-decoration-line: none\; font-family: Helvetica\, Arial\, sans-serif\; font-size: 14px\;">Jav&#39\;s Bar-B-Q</a><span style="color:rgb(29\, 33\, 41)\; font-family:helvetica\,arial\,sans-serif\; font-size:14px">\,&nbsp\;</span><a href="https://www.facebook.com/infinitysauce/" style="color: rgb(54\, 88\, 153)\; cursor: pointer\; text-decoration-line: none\; font-family: Helvetica\, Arial\, sans-serif\; font-size: 14px\;">Infinity Sauces</a><span style="color:rgb(29\, 33\, 41)\; font-family:helvetica\,arial\,sans-serif\; font-size:14px">\, and&nbsp\;</span><a href="https://www.facebook.com/moondanceproductions/" style="color: rgb(54\, 88\, 153)\; cursor: pointer\; text-decoration-line: none\; font-family: Helvetica\, Arial\, sans-serif\; font-size: 14px\;">Moondance Catering</a><span style="color:rgb(29\, 33\, 41)\; font-family:helvetica\,arial\,sans-serif\; font-size:14px">!</span></p>\n
LOCATION:305 E. 4th St Santa Ana\, CA
UID:e.2108.2474
SEQUENCE:3
DTSTAMP:20260422T204454Z
URL:https://business.anaheimchamber.org/events/details/poker-tournament-2474
END:VEVENT

END:VCALENDAR
