BEGIN:VCALENDAR
VERSION:2.0
PRODID:-//ChamberMaster//Event Calendar 2.0//EN
METHOD:PUBLISH
X-PUBLISHED-TTL:P3D
REFRESH-INTERVAL:P3D
CALSCALE:GREGORIAN
BEGIN:VEVENT
DTSTART:20200527T210000Z
DTEND:20200527T220000Z
X-MICROSOFT-CDO-ALLDAYEVENT:FALSE
SUMMARY:Restaurant and Brewery Response & Recovery Zoom Call
DESCRIPTION:The coronavirus pandemic continues to affect the business community here in Anaheim. As the situation evolves\, we are here to bring you the latest updates and resources to help your business navigate through these challenging times. Please join us for the informative session.
X-ALT-DESC;FMTTYPE=text/html:The coronavirus pandemic continues to affect the business community here in Anaheim. As the situation evolves\, we are here to bring you the latest updates and resources to help your business navigate through these challenging times. Please join us for the informative session.
LOCATION:Meeting Code 420-883-437 Anaheim Chamber and Restaurant/Breweries Resources
UID:e.2108.3570
SEQUENCE:3
DTSTAMP:20260422T221241Z
URL:https://business.anaheimchamber.org/events/details/restaurant-and-brewery-response-recovery-zoom-call-05-27-2020-3570
END:VEVENT

END:VCALENDAR
