BEGIN:VCALENDAR
VERSION:2.0
PRODID:-//ChamberMaster//Event Calendar 2.0//EN
METHOD:PUBLISH
X-PUBLISHED-TTL:P3D
REFRESH-INTERVAL:P3D
CALSCALE:GREGORIAN
BEGIN:VEVENT
DTSTART:20200521T140000Z
DTEND:20200521T150000Z
X-MICROSOFT-CDO-ALLDAYEVENT:FALSE
SUMMARY:Retail Ready: Operational assistance for recovery and reopening
DESCRIPTION:Retail Ready: Operational assistance for recovery and reopening. Third in a series of webinars to help retail businesses get ready to reopen. Presented by Amy Sterndale\, NH SBDC Business Advisor
X-ALT-DESC;FMTTYPE=text/html:<span style="color: rgb(27\, 30\, 41)\; font-family: &quot\;Source Sans Pro&quot\;\, &quot\;Helvetica Neue&quot\;\, Helvetica\, Arial\, sans-serif\; font-size: 18px\; letter-spacing: -0.4px\;">Retail Ready: Operational assistance for recovery and reopening. Third in a series of webinars to help retail businesses get ready to reopen. Presented by Amy Sterndale\, NH SBDC Business Advisor</span>
LOCATION:Online
UID:e.2108.3590
SEQUENCE:3
DTSTAMP:20260423T012918Z
URL:https://business.anaheimchamber.org/events/details/retail-ready-operational-assistance-for-recovery-and-reopening-3590
END:VEVENT

END:VCALENDAR
